BEGIN:VCALENDAR
VERSION:2.0
PRODID:-//Betriebsräte Bildung Berlin-Brandenburg-Sachsen gGmbH - ECPv6.15.20//NONSGML v1.0//EN
CALSCALE:GREGORIAN
METHOD:PUBLISH
X-ORIGINAL-URL:https://betriebsraete-bildung.de
X-WR-CALDESC:Veranstaltungen für Betriebsräte Bildung Berlin-Brandenburg-Sachsen gGmbH
REFRESH-INTERVAL;VALUE=DURATION:PT1H
X-Robots-Tag:noindex
X-PUBLISHED-TTL:PT1H
BEGIN:VTIMEZONE
TZID:Europe/Berlin
BEGIN:DAYLIGHT
TZOFFSETFROM:+0100
TZOFFSETTO:+0200
TZNAME:CEST
DTSTART:20220327T010000
END:DAYLIGHT
BEGIN:STANDARD
TZOFFSETFROM:+0200
TZOFFSETTO:+0100
TZNAME:CET
DTSTART:20221030T010000
END:STANDARD
BEGIN:DAYLIGHT
TZOFFSETFROM:+0100
TZOFFSETTO:+0200
TZNAME:CEST
DTSTART:20230326T010000
END:DAYLIGHT
BEGIN:STANDARD
TZOFFSETFROM:+0200
TZOFFSETTO:+0100
TZNAME:CET
DTSTART:20231029T010000
END:STANDARD
BEGIN:DAYLIGHT
TZOFFSETFROM:+0100
TZOFFSETTO:+0200
TZNAME:CEST
DTSTART:20240331T010000
END:DAYLIGHT
BEGIN:STANDARD
TZOFFSETFROM:+0200
TZOFFSETTO:+0100
TZNAME:CET
DTSTART:20241027T010000
END:STANDARD
END:VTIMEZONE
BEGIN:VEVENT
DTSTART;TZID=Europe/Berlin:20231106T090000
DTEND;TZID=Europe/Berlin:20231110T160000
DTSTAMP:20260423T000733
CREATED:20221111T161557Z
LAST-MODIFIED:20251015T141400Z
UID:10000035-1699261200-1699632000@betriebsraete-bildung.de
SUMMARY:BR I - Einführung in die Betriebsratsarbeit
DESCRIPTION:Als neugewähltes Betriebsratsmitglied steht man vor zahlreichen neuen Aufgaben\, Rechten und Pflichten. Das Seminar führt in das Betriebsverfassungsrecht ein\, vermittelt wesentliche Grundlagen für einen guten Einstieg in die Betriebsratsarbeit und stellt die zentralen Aufgaben\, Rechte und Pflichten des Betriebsrats vor. \nDie TeilnehmerInnen erhalten eine praxisnahe Einführung in die Grundzüge einer effektiven und beteiligungsorientierten Arbeitsweise\, zu Methoden der Informationsbeschaffung sowie zu Arbeitsorganisation. Das Seminar ermöglicht eine intensive Auseinandersetzung mit der Rolle als neu gewähltes Betriebsratsmitglied und legt den Grundstein\, die neuen Anforderungen selbstbewusst und kompetent zu meistern. \nThemenplan: \n\nEinführung in das Betriebsverfassungsrecht\nDie Aufgaben\, Rechte und Pflichten von Betriebsratsmitgliedern auf Basis des Betriebsverfassungsgesetzes\nZentrale Unterrichtungs- und Beratungsrechte des Betriebsrats\nSchutz- und Gestaltungsaufgaben\nEinführung in die Mitbestimmungsmöglichkeiten in personellen\, sozialen und wirtschaftlichen Angelegenheiten\nNutzung der Beteiligungsrechte zur Durchsetzung von Interessen der Beschäftigten\nGrundzüge einer effektiven und beteiligungsorientierten Betriebsratsarbeit\n\n\n\n\n\n\nDatum & Uhrzeiten\n\n\n\n\nBeginn:\n06.11.2023 – 09:00 Uhr\n\n\nEnde:\n10.11.2023 – 16:00 Uhr\n\n\n\n\n\n\n\n\n\nReferent:innen\n\n\n\n\nFredi Brodersen\n\n\n\n\n\n\n\n\n\nDetails\n\n\n\n\nThemenfeld | KategorieBR Grundlagen | Grundlagenseminar\n\n\nZielgruppe:Betriebsräte\, SBV\n\n\nRegion:alle Regionen\n\n\nFreistellung:§ 37\,6 BetrVG\, § 179\,4 SGB IX\n\n\nMaterial:u.a. Arbeits- und Sozialordnung\, BetrVG  Basiskommentar mit Wahlordnung\n\n\nKosten:Seminargebühr (MwSt.frei): 1050 €Hotel/Verpflegung (inkl. MwSt): 965 € /(530 € o.Ü.)Material (inkl. MwSt): ca.90 €\n\n\nSeminarnummer:A600232A0050
URL:https://betriebsraete-bildung.de/seminar/br-i-einfuehrung-in-die-betriebsratsarbeit-6/
LOCATION:Hotel Kloster Nimbschen\, Nimbschener Landstr. 1\, Grimma\, Sachsen\, 04668\, Deutschland
CATEGORIES:Betriebsräte,BR Grundlagen,Fredi Brodersen,Grundlagenseminar,Referent,SBV,Seminarkategorie,Themenfeld,Zielgruppe
END:VEVENT
BEGIN:VEVENT
DTSTART;TZID=Europe/Berlin:20231107T090000
DTEND;TZID=Europe/Berlin:20231107T160000
DTSTAMP:20260423T000733
CREATED:20221111T161557Z
LAST-MODIFIED:20251015T141400Z
UID:10000036-1699347600-1699372800@betriebsraete-bildung.de
SUMMARY:Neues aus Arbeits- und Sozialrecht
DESCRIPTION:An den Schnittstellen von Arbeits- und Sozialrecht gibt es immer wieder Neuerungen\, die Veränderungen für den Handlungsrahmen des Betriebsrats mit sich bringen. Im Tagesseminar erhalten die Teilnehmenden einen umfassenden\, praxisorientierten und aktuellen Überblick über die wichtigsten Neuerungen und Entwicklungstendenzen im Arbeits- und Sozialrecht. Der Themenplan berücksichtigt gesetzliche Neuerungen und wird fortlaufend aktualisiert. \nThemenplan: \n\nNeues aus Gesetzgebung und Rechtsprechung – gesetzliche Neuerungen im Überblick Betriebsrätemodernisierungsgesetz\nKurzarbeit\nFlexibles Arbeiten und Arbeitszeit\nAktuelle Entwicklungen zur Arbeitszeit und Arbeitszeiterfassung\nBundesteilhabegesetz\n\n\n\n\n\n\nDatum & Uhrzeiten\n\n\n\n\nBeginn:\n07.11.2023 – 09:00 Uhr\n\n\nEnde:\n07.11.2023 – 16:00 Uhr\n\n\n\n\n\n\n\n\n\nReferent:innen\n\n\n\n\nJörg Hermann\, Rechtsanwälte Schindele Gerstner & Collegen\n\n\n\n\n\n\n\n\n\nDetails\n\n\n\n\nThemenfeld | KategorieArbeitsrecht | Grundlagen\n\n\nZielgruppe:Betriebsräte\, SBV\, JAV\n\n\nRegion:Dresden-Riesa\n\n\nFreistellung:§ 37\,6 BetrVG\, § 179\,4 SGB IX\n\n\nKosten:Seminargebühr (MwSt.frei): 290 €Hotel/Verpflegung (inkl. MwSt): 78 €\n\n\nSeminarnummer:A600232D0051
URL:https://betriebsraete-bildung.de/seminar/neues-aus-arbeits-und-sozialrecht-2/
LOCATION:Winzergenossenschaft Meißen\, Bennoweg 9\, Meißen\, Sachsen\, 1662\, Deutschland
CATEGORIES:Arbeits­recht,Betriebsräte,Grundlagenseminar,JAV,Jörg Hermann,Referent,SBV,Seminarkategorie,Themenfeld,Zielgruppe
END:VEVENT
BEGIN:VEVENT
DTSTART;TZID=Europe/Berlin:20231127T090000
DTEND;TZID=Europe/Berlin:20231201T160000
DTSTAMP:20260423T000733
CREATED:20230914T092733Z
LAST-MODIFIED:20251015T141359Z
UID:10000121-1701075600-1701446400@betriebsraete-bildung.de
SUMMARY:BR I - Einführung in die Betriebsratsarbeit
DESCRIPTION:Als neugewähltes Betriebsratsmitglied steht man vor zahlreichen neuen Aufgaben\, Rechten und Pflichten. Das Seminar führt in das Betriebsverfassungsrecht ein\, vermittelt wesentliche Grundlagen für einen guten Einstieg in die Betriebsratsarbeit und stellt die zentralen Aufgaben\, Rechte und Pflichten des Betriebsrats vor. Die TeilnehmerInnen erhalten eine praxisnahe Einführung in die Grundzüge einer effektiven und beteiligungsorientierten Arbeitsweise\, zu Methoden der Informationsbeschaffung sowie zu Arbeitsorganisation. Das Seminar ermöglicht eine intensive Auseinandersetzung mit der Rolle als neu gewähltes Betriebsratsmitglied und legt den Grundstein\, die neuen Anforderungen selbstbewusst und kompetent zu meistern. \nThemenplan: \n\nEinführung in das Betriebsverfassungsrecht\nDie Aufgaben\, Rechte und Pflichten von Betriebsratsmitgliedern auf Basis des Betriebsverfassungsgesetzes\nZentrale Unterrichtungs- und Beratungsrechte des Betriebsrats\nSchutz- und Gestaltungsaufgaben\nEinführung in die Mitbestimmungsmöglichkeiten in personellen\, sozialen und wirtschaftlichen Angelegenheiten\nNutzung der Beteiligungsrechte zur Durchsetzung von Interessen der Beschäftigten\nGrundzüge einer effektiven und beteiligungsorientierten Betriebsratsarbeit\n\n\n\n\n\n\nDatum & Uhrzeiten\n\n\n\n\nBeginn:\n27.11.2023 – 09:00 Uhr\n\n\nEnde:\n01.12.2023 – 16:00 Uhr\n\n\n\n\n\n\n\n\n\nReferentin\n\n\n\n\nPia Dilling\n\n\n\n\n\n\n\n\n\nDetails\n\n\n\n\nThemenfeld | KategorieBR Grundlagen | Grundlagenseminar\n\n\nZielgruppe:Betriebsräte\, SBV\n\n\nRegion:alle Regionen\n\n\nFreistellung:§ 37\,6 BetrVG\, § 179\,4 SGB IX\n\n\nMaterial:u.a. Arbeits- und Sozialordnung\, BetrVG  Basiskommentar mit Wahlordnung\n\n\nKosten:Seminargebühr (MwSt.frei): 1.050 €Hotel/Verpflegung (inkl. MwSt): 945 € (443 o.Ü.)Material (inkl. MwSt): ca. 90 €\n\n\nSeminarnummer:A600232A0103
URL:https://betriebsraete-bildung.de/seminar/br-i-einfuehrung-in-die-betriebsratsarbeit-7/
LOCATION:Hotel Kloster Nimbschen\, Nimbschener Landstr. 1\, Grimma\, Sachsen\, 04668\, Deutschland
CATEGORIES:Betriebsräte,BR Grundlagen,Grundlagenseminar,Pia Dilling,Referent,SBV,Seminarkategorie,Themenfeld,Zielgruppe
END:VEVENT
END:VCALENDAR