BEGIN:VCALENDAR
VERSION:2.0
PRODID:-//Betriebsräte Bildung Berlin-Brandenburg-Sachsen gGmbH - ECPv6.15.20//NONSGML v1.0//EN
CALSCALE:GREGORIAN
METHOD:PUBLISH
X-WR-CALNAME:Betriebsräte Bildung Berlin-Brandenburg-Sachsen gGmbH
X-ORIGINAL-URL:https://betriebsraete-bildung.de
X-WR-CALDESC:Veranstaltungen für Betriebsräte Bildung Berlin-Brandenburg-Sachsen gGmbH
REFRESH-INTERVAL;VALUE=DURATION:PT1H
X-Robots-Tag:noindex
X-PUBLISHED-TTL:PT1H
BEGIN:VTIMEZONE
TZID:Europe/Berlin
BEGIN:DAYLIGHT
TZOFFSETFROM:+0100
TZOFFSETTO:+0200
TZNAME:CEST
DTSTART:20230326T010000
END:DAYLIGHT
BEGIN:STANDARD
TZOFFSETFROM:+0200
TZOFFSETTO:+0100
TZNAME:CET
DTSTART:20231029T010000
END:STANDARD
BEGIN:DAYLIGHT
TZOFFSETFROM:+0100
TZOFFSETTO:+0200
TZNAME:CEST
DTSTART:20240331T010000
END:DAYLIGHT
BEGIN:STANDARD
TZOFFSETFROM:+0200
TZOFFSETTO:+0100
TZNAME:CET
DTSTART:20241027T010000
END:STANDARD
BEGIN:DAYLIGHT
TZOFFSETFROM:+0100
TZOFFSETTO:+0200
TZNAME:CEST
DTSTART:20250330T010000
END:DAYLIGHT
BEGIN:STANDARD
TZOFFSETFROM:+0200
TZOFFSETTO:+0100
TZNAME:CET
DTSTART:20251026T010000
END:STANDARD
END:VTIMEZONE
BEGIN:VEVENT
DTSTART;TZID=Europe/Berlin:20240513T090000
DTEND;TZID=Europe/Berlin:20240517T160000
DTSTAMP:20260422T133529
CREATED:20231017T122814Z
LAST-MODIFIED:20251015T141358Z
UID:10000306-1715590800-1715961600@betriebsraete-bildung.de
SUMMARY:BR I - Einführung in die Betriebsratsarbeit
DESCRIPTION:Als neugewähltes Betriebsratsmitglied steht man vor zahlreichen neuen Aufgaben\, Rechten und Pflichten. Das Seminar führt in das Betriebsverfassungsrecht ein\, vermittelt wesentliche Grundlagen für einen guten Einstieg in die Betriebsratsarbeit und stellt die zentralen Aufgaben\, Rechte und Pflichten des Betriebsrats vor. Die TeilnehmerInnen erhalten eine praxisnahe Einführung in die Grundzüge einer effektiven und beteiligungsorientierten Arbeitsweise\, zu Methoden der Informationsbeschaffung sowie zu Arbeitsorganisation. Das Seminar ermöglicht eine intensive Auseinandersetzung mit der Rolle als neu gewähltes Betriebsratsmitglied und legt den Grundstein\, die neuen Anforderungen selbstbewusst und kompetent zu meistern. \nThemenplan: \n\nEinführung in das Betriebsverfassungsrecht\nDie Aufgaben\, Rechte und Pflichten von Betriebsratsmitgliedern auf Basis des Betriebsverfassungsgesetzes\nZentrale Unterrichtungs- und Beratungsrechte des Betriebsrats\nSchutz- und Gestaltungsaufgaben\nEinführung in die Mitbestimmungsmöglichkeiten in personellen\, sozialen und wirtschaftlichen Angelegenheiten\nNutzung der Beteiligungsrechte zur Durchsetzung von Interessen der Beschäftigten\nGrundzüge einer effektiven und beteiligungsorientierten Betriebsratsarbeit\n\n\n\n\n\n\nDatum & Uhrzeiten\n\n\n\n\nBeginn:\n13.05.2024 – 09:00 Uhr\n\n\nEnde:\n17.05.2024 – 16:00 Uhr\n\n\nAnreise:\n13.05.2024\n\n\nAnmeldung bis:\n09.04.2024\n\n\n\n\n\n\n\n\n\nReferent:innen\n\n\n\n\nFredi Brodersen\n\n\n\n\n\n\n\n\n\nDetails\n\n\n\n\nThemenfeld | KategorieBR Grundlagen | Grundlagenseminar\n\n\nZielgruppe:Betriebsräte\, SBV\n\n\nRegion:für alle Regionen\n\n\nFreistellung:§ 179\,4 SGB IX\, § 37\,6 BetrVG\,\n\n\nKosten:Seminargebühr (MwSt.frei): 1.130 €Hotel/Verpflegung (inkl. MwSt): 1.040 € / (585 € o.Ü.)Material (inkl. MwSt): 100 €\n\n\nMaterial:Arbeits- und Sozialordnung\, BetrVG – Basiskommentar mit Wahlordnung\n\n\nSeminarnummer:A600242A0010
URL:https://betriebsraete-bildung.de/seminar/br-i-einfuehrung-in-die-betriebsratsarbeit-9/
LOCATION:Hotel Kloster Nimbschen\, Nimbschener Landstr. 1\, Grimma\, Sachsen\, 04668\, Deutschland
CATEGORIES:Betriebsräte,BR Grundlagen,Fredi Brodersen,Grundlagenseminar,Referent,SBV,Seminarkategorie,Themenfeld,Zielgruppe
END:VEVENT
BEGIN:VEVENT
DTSTART;TZID=Europe/Berlin:20240528T090000
DTEND;TZID=Europe/Berlin:20240529T160000
DTSTAMP:20260422T133529
CREATED:20231017T122817Z
LAST-MODIFIED:20251015T141358Z
UID:10000304-1716886800-1716998400@betriebsraete-bildung.de
SUMMARY:Betriebsvereinbarungen rechtssicher gestalten
DESCRIPTION:Die Erarbeitung\, Verhandlung\, der Abschluss und die Anwendung von Betriebsvereinbarungen gehören zur zentralen Aufgabe der Arbeit von Betriebsräten (§ 77\, § 87 und § 88 BetrVG). Das Seminar vermittelt die grundsätzliche\, rechtssichere Herangehensweise an die Entwicklungen von Betriebsvereinbarungen und behandelt die einzelnen Prozessschritte – von der Regelungsabsicht über Formulierung und Verhandlung der Vereinbarung bis zu ihrem Abschluss\, skizziert die jeweiligen Herausforderungen und betrachtet typische Probleme und Fallstricke. Anhand konkreter Fallbeispiele werden zudem bewährte Lösungsansätze und Verhandlungsstrategien aufgezeigt\, wenn Verhandlungen in eine Sackgasse geraten oder Regelungsabsicht der Betriebsparteien und / oder Interessen der Belegschaft auseinanderdriften. \nThemenplan: \n\nMitbestimmungsrechte des Betriebsrats und Aufgabe der Betriebsvereinbarung gemäß BetrVG\nInhalt\, Form und Aufbau einer Betriebsvereinbarung – von der Regelungsabsicht bis zum Abschluss\nGestaltung\, Handhabung und Verbesserung bestehender Betriebsvereinbarungen\nRaus aus der Sackgasse – typische Problemfälle lösen\n\n\n\n\n\n\nDatum & Uhrzeiten\n\n\n\n\nBeginn:\n28.05.2024 – 09:00 Uhr\n\n\nEnde:\n29.05.2024 – 16:00 Uhr\n\n\nAnreise:\n28.05.2024\n\n\nAnmeldung bis:\n10.05.2024\n\n\n\n\n\n\n\n\n\nReferent:innen\n\n\n\n\nJörg Hermann\, Rechtsanwälte Schindele Gerstner & Collegen\n\n\n\n\n\n\n\n\n\nDetails\n\n\n\n\nThemenfeld | KategorieArbeitsrecht | Grundlagenseminar\n\n\nZielgruppe:Betriebsräte\, SBV\n\n\nRegion:für alle Regionen\n\n\nFreistellung:§ 179\,4 SGB IX\, § 37\,6 BetrVG\,\n\n\nKosten:Seminargebühr (MwSt.frei): 630 €Hotel/Verpflegung (inkl. MwSt): 335 € / (203 € o.Ü.)\n\n\nVorraussetzung:Teilnahme am Seminar BR I-Einführung in die Betriebsratsarbeit\n\n\nSeminarnummer:A600242Z0012
URL:https://betriebsraete-bildung.de/seminar/betriebsvereinbarungen-rechtssicher-gestalten-5/
LOCATION:Landhotel Rittersgrün\, Karlsbader Str. 23\, Breitenbrunn\, Sachsen\, 08359
CATEGORIES:Arbeits­recht,Betriebsräte,Grundlagenseminar,Jörg Hermann,Referent,SBV,Seminarkategorie,Themenfeld,Zielgruppe
END:VEVENT
BEGIN:VEVENT
DTSTART;TZID=Europe/Berlin:20240528T090000
DTEND;TZID=Europe/Berlin:20240529T160000
DTSTAMP:20260422T133529
CREATED:20231017T122830Z
LAST-MODIFIED:20251015T141358Z
UID:10000302-1716886800-1716998400@betriebsraete-bildung.de
SUMMARY:Protokollführung im BR
DESCRIPTION:Das Protokoll ist ein wichtiges Fundament für die Arbeit des Betriebsrats und muss auch im Falle rechtlicher Auseinandersetzungen den formalrechtlichen Ansprüchen genügen. Sitzungen\, Verhandlungen und Beschlüsse des Betriebsrats müssen ordnungsgemäß protokolliert werden. \nThemenplan: \n\nNiederschrift gem. §34 BetrVG: gesetzliche Anforderungen an die Satzungsniederschrift\, Einsichtnahme und Aufbewahrung\, rechtliches Hintergrundwissen\, Verfahren bei Stellungsnahmen\, Umgang mit Einwänden\nForm und Inhalt von Satzungsniederschriften: Mindestanforderungen und korrekte Protokollsprache\, Protokollarten im Vergleich\, Fristen\, Beschlüsse und Abstimmungsergebnisse rechtssicher dokumentieren\, Formulierungen im Protokoll\nPraxistipps und erste praktische Übungen\n\n\n\n\n\n\nDatum & Uhrzeiten\n\n\n\n\nBeginn:\n28.05.2024 – 09:00 Uhr\n\n\nEnde:\n29.05.2024 – 16:00 Uhr\n\n\nAnreise:\n28.05.2024\n\n\nAnmeldung bis:\n24.04.2024\n\n\n\n\n\n\n\n\n\nReferent\n\n\n\n\nWinfried Groß\n\n\n\n\n\n\n\n\n\nDetails\n\n\n\n\nThemenfeld | KategorieOrganisation im BR | Grundlagenseminar aufgabenbezogen\n\n\nZielgruppe:Betriebsräte\n\n\nRegion:für alle Regionen\n\n\nFreistellung:§ 179\,4 SGB IX\, § 37\,6 BetrVG\,\n\n\nKosten:Seminargebühr (MwSt.frei): 630 €Hotel/Verpflegung (inkl. MwSt): 315 € / (200 € o.Ü.) Material (inkl. MwSt): 18 €\n\n\nMaterial:Handbuch Protokollführung für Betriebsräte\n\n\nSeminarnummer:A600242A0019
URL:https://betriebsraete-bildung.de/seminar/protokollfuehrung-im-br/
LOCATION:Hotel Kloster Nimbschen\, Nimbschener Landstr. 1\, Grimma\, Sachsen\, 04668\, Deutschland
CATEGORIES:Betriebsräte,Grundlagenseminar aufgabenbezogen,Organisation im BR,Referent,Seminarkategorie,Themenfeld,Winfried Groß,Zielgruppe
END:VEVENT
END:VCALENDAR