BEGIN:VCALENDAR
VERSION:2.0
PRODID:-//Betriebsräte Bildung Berlin-Brandenburg-Sachsen gGmbH - ECPv6.15.20//NONSGML v1.0//EN
CALSCALE:GREGORIAN
METHOD:PUBLISH
X-ORIGINAL-URL:https://betriebsraete-bildung.de
X-WR-CALDESC:Veranstaltungen für Betriebsräte Bildung Berlin-Brandenburg-Sachsen gGmbH
REFRESH-INTERVAL;VALUE=DURATION:PT1H
X-Robots-Tag:noindex
X-PUBLISHED-TTL:PT1H
BEGIN:VTIMEZONE
TZID:Europe/Berlin
BEGIN:DAYLIGHT
TZOFFSETFROM:+0100
TZOFFSETTO:+0200
TZNAME:CEST
DTSTART:20240331T010000
END:DAYLIGHT
BEGIN:STANDARD
TZOFFSETFROM:+0200
TZOFFSETTO:+0100
TZNAME:CET
DTSTART:20241027T010000
END:STANDARD
BEGIN:DAYLIGHT
TZOFFSETFROM:+0100
TZOFFSETTO:+0200
TZNAME:CEST
DTSTART:20250330T010000
END:DAYLIGHT
BEGIN:STANDARD
TZOFFSETFROM:+0200
TZOFFSETTO:+0100
TZNAME:CET
DTSTART:20251026T010000
END:STANDARD
BEGIN:DAYLIGHT
TZOFFSETFROM:+0100
TZOFFSETTO:+0200
TZNAME:CEST
DTSTART:20260329T010000
END:DAYLIGHT
BEGIN:STANDARD
TZOFFSETFROM:+0200
TZOFFSETTO:+0100
TZNAME:CET
DTSTART:20261025T010000
END:STANDARD
END:VTIMEZONE
BEGIN:VEVENT
DTSTART;TZID=Europe/Berlin:20250303T090000
DTEND;TZID=Europe/Berlin:20250305T160000
DTSTAMP:20260421T211843
CREATED:20241001T090008Z
LAST-MODIFIED:20251015T141355Z
UID:10000331-1740992400-1741190400@betriebsraete-bildung.de
SUMMARY:Arbeitsrecht I: Grundlagen - Arbeitsverhältnis - Haftung
DESCRIPTION:Bei Neueinstellungen muss sich der Betriebsrat mit verschiedenen Fragen und rechtlichen Aspekten auseinandersetzen. Was ist vor Abschluss des Arbeitsvertrages zu beachten? Wie wird das Arbeitsverhältnis begründet und welche Inhalte sind mit dem Arbeitsvertrag zu regeln? Im Seminar werden wesentliche Grundlagen des Arbeitsrechts vermittelt und der Prozess der Neueinstellung – von der Stellenausschreibung\, über das Vorstellungsgespräch bis hin zum Arbeitsvertrag aus Sicht des Betriebsrats näher beleuchtet und Aufgaben\, Rechte und Handlungsmöglichkeiten des Betriebsrats aufgezeigt. \nThemenplan: \n\nÜberwachungsaufgaben und Beteiligungsrechte des Betriebsrats\nBegriffe klären: Betrieb\, Unternehmen\, Arbeitnehmende\, Leiharbeitnehmer/-in\, Auszubildende\, geringfügig Beschäftigte\, freie Mitarbeitende\nNormenpyramide\nkollektives und individuelles Arbeitsrecht\, Tarifbindung und Tarifbezug\, Betriebsvereinbarung und Tarifvorrang\, Stellung der Gewerkschaften Haupt- und\nNebenleistungspflichten von Arbeitnehmenden und Arbeitgebenden\nBegründung des Arbeitsverhältnisses: Stellenausschreibung\, Fragerecht etc.\nForm des Arbeitsvertrags\, Nachweisgesetz\, faktisches Arbeitsverhältnis\nBesondere Anspruchsgrundlagen: Gesamtzusage\, betriebliche Übung\, Gleichbehandlungsgrundsatz\nInhaltskontrolle: AGB-rechtliche Bestimmungen wie Vertragsstrafen\, Rückzahlung von Schulungskosten\, Gesundheitsüberprüfung\, Freistellungsregelungen etc.\n\n\n\n\n\n\nDatum & Uhrzeiten\n\n\n\n\nBeginn:\n03.03.2025 – 09:00 Uhr\n\n\nEnde:\n05.03.2025 – 16:00 Uhr\n\n\nAnreise:\n03.03.2025\n\n\nAnmeldung bis:\n16.02.2025\n\n\n\n\n\n\n\n\n\nReferent:innen\n\n\n\n\nMicha Heilmann\, dka\n\n\n\n\n\n\n\n\n\nDetails\n\n\n\n\nThemenfeld | KategorieArbeitsrecht | Grundlagenseminar\n\n\nZielgruppe:Betriebsräte\, SBV\n\n\nRegion:für alle Regionen\n\n\nFreistellung:§ 37.6 BetrVG\, § 179.4 SGB IX\n\n\nKosten:Seminargebühr (MwSt.frei): 990 €Hotel/Verpflegung (inkl. MwSt): 660 € / (320 € o.Ü.)\n\n\nMaterial:u.a. Arbeits- und Sozialordnung\n\n\nSeminarnummer:A600252A0003
URL:https://betriebsraete-bildung.de/seminar/arbeitsrecht-i-grundlagen-arbeitsverhaeltnis-haftung/
LOCATION:relexa Hotel Berlin\, Anhalter Str. 8-9\, Berlin\, Sachsen\, 10963
CATEGORIES:Arbeits­recht,Betriebsräte,Grundlagenseminar,Micha Heilmann,Referent,SBV,Seminarkategorie,Themenfeld,Zielgruppe
END:VEVENT
BEGIN:VEVENT
DTSTART;TZID=Europe/Berlin:20250309T150000
DTEND;TZID=Europe/Berlin:20250314T130000
DTSTAMP:20260421T211843
CREATED:20241001T090013Z
LAST-MODIFIED:20251015T141355Z
UID:10000333-1741532400-1741957200@betriebsraete-bildung.de
SUMMARY:BR I - Einführung in die Betriebsratsarbeit
DESCRIPTION:Als neugewähltes Betriebsratsmitglied steht man vor zahlreichen neuen Aufgaben\, Rechten und Pflichten. Das Seminar führt in das Betriebsverfassungsrecht ein\, vermittelt wesentliche Grundlagen für einen guten Einstieg in die Betriebsratsarbeit und stellt die zentralen Aufgaben\, Rechte und Pflichten des Betriebsrats vor. Die TeilnehmerInnen erhalten eine praxisnahe Einführung in die Grundzüge einer effektiven und beteiligungsorientierten Arbeitsweise\, zu Methoden der Informationsbeschaffung sowie zu Arbeitsorganisation. Das Seminar ermöglicht eine intensive Auseinandersetzung mit der Rolle als neu gewähltes Betriebsratsmitglied und legt den Grundstein\, die neuen Anforderungen selbstbewusst und kompetent zu meistern. \nThemenplan: \n\nEinführung in das Betriebsverfassungsrecht\nDie Aufgaben\, Rechte und Pflichten von Betriebsratsmitgliedern auf Basis des Betriebsverfassungsgesetzes\nZentrale Unterrichtungs- und Beratungsrechte des Betriebsrats\nSchutz- und Gestaltungsaufgaben\nEinführung in die Mitbestimmungsmöglichkeiten in personellen\, sozialen und wirtschaftlichen Angelegenheiten\nNutzung der Beteiligungsrechte zur Durchsetzung von Interessen der Beschäftigten\nGrundzüge einer effektiven und beteiligungsorientierten Betriebsratsarbeit\n\n\n\n\n\n\nDatum & Uhrzeiten\n\n\n\n\nBeginn:\n09.03.2025 – 15:00 Uhr\n\n\nEnde:\n14.03.2025 – 13:00 Uhr\n\n\nAnreise:\n09.03.2025\n\n\nAnmeldung bis:\n06.02.2025\n\n\n\n\n\n\n\n\n\nReferent:innen\n\n\n\n\nAstrid Diebitsch\, Matthias Weber-Piepenschneider\n\n\n\n\n\n\n\n\n\nDetails\n\n\n\n\nThemenfeld | KategorieBR Grundlagen | Grundlagenseminar\n\n\nZielgruppe:Betriebsräte\, SBV\n\n\nRegion:Berlin\n\n\nFreistellung:§ 37.6 BetrVG\, § 179.4 SGB IX\n\n\nKosten:Seminargebühr (MwSt.frei): 1.200 €Hotel/Verpflegung (inkl. MwSt): 1.065 € Material (inkl. MwSt): 100 €\n\n\nMaterial:Arbeits- und Sozialordnung\, BetrVG  Basiskommentar mit Wahlordnung\n\n\nSeminarnummer:A600252BE005
URL:https://betriebsraete-bildung.de/seminar/br-i-einfuehrung-in-die-betriebsratsarbeit-5/
LOCATION:Ostseehotel Dierhagen\, Wiesenweg 1\, Dierhagen\, Sachsen\, 18347
CATEGORIES:Betriebsräte,BR Grundlagen,Grundlagenseminar,Matthias Weber-Piepenschneider,Referent,Referent*innen IG Metall,SBV,Seminarkategorie,Themenfeld,Zielgruppe
END:VEVENT
BEGIN:VEVENT
DTSTART;TZID=Europe/Berlin:20250310T090000
DTEND;TZID=Europe/Berlin:20250314T160000
DTSTAMP:20260421T211843
CREATED:20240929T161035Z
LAST-MODIFIED:20251015T141356Z
UID:10000325-1741597200-1741968000@betriebsraete-bildung.de
SUMMARY:BR I - Einführung in die Betriebsratsarbeit
DESCRIPTION:Als neugewähltes Betriebsratsmitglied steht man vor zahlreichen neuen Aufgaben\, Rechten und Pflichten. Das Seminar führt in das Betriebsverfassungsrecht ein\, vermittelt wesentliche Grundlagen für einen guten Einstieg in die Betriebsratsarbeit und stellt die zentralen Aufgaben\, Rechte und Pflichten des Betriebsrats vor. Die TeilnehmerInnen erhalten eine praxisnahe Einführung in die Grundzüge einer effektiven und beteiligungsorientierten Arbeitsweise\, zu Methoden der Informationsbeschaffung sowie zu Arbeitsorganisation. Das Seminar ermöglicht eine intensive Auseinandersetzung mit der Rolle als neu gewähltes Betriebsratsmitglied und legt den Grundstein\, die neuen Anforderungen selbstbewusst und kompetent zu meistern. \nThemenplan: \n\nEinführung in das Betriebsverfassungsrecht\nDie Aufgaben\, Rechte und Pflichten von Betriebsratsmitgliedern auf Basis des Betriebsverfassungsgesetzes\nZentrale Unterrichtungs- und Beratungsrechte des Betriebsrats\nSchutz- und Gestaltungsaufgaben\nEinführung in die Mitbestimmungsmöglichkeiten in personellen\, sozialen und wirtschaftlichen Angelegenheiten\nNutzung der Beteiligungsrechte zur Durchsetzung von Interessen der Beschäftigten\nGrundzüge einer effektiven und beteiligungsorientierten Betriebsratsarbeit\n\n\n\n\n\n\nDatum & Uhrzeiten\n\n\n\n\nBeginn:\n10.03.2025 – 09:00 Uhr\n\n\nEnde:\n14.03.2025 – 16:00 Uhr\n\n\nAnreise:\n10.03.2025\n\n\nAnmeldung bis:\n03.02.2025\n\n\n\n\n\n\n\n\n\nReferent:innen\n\n\n\n\nPia Dilling\n\n\n\n\n\n\n\n\n\nDetails\n\n\n\n\nThemenfeld | KategorieBR Grundlagen | Grundlagenseminar\n\n\nZielgruppe:Betriebsräte\, SBV\n\n\nRegion:für alle Regionen Sachsen\n\n\nFreistellung:§ 37.6 BetrVG\, § 179.4 SGB IX\n\n\nKosten:Seminargebühr (MwSt.frei): 1.200 €Hotel/Verpflegung (inkl. MwSt): 1.100 € / (580 € o.Ü.)Material (inkl. MwSt): 100 €\n\n\nMaterial:Arbeits- und Sozialordnung\, BetrVG Basiskommentar mit Wahlordnung\n\n\nSeminarnummer:A600252S0008
URL:https://betriebsraete-bildung.de/seminar/br-i-einfuehrung-in-die-betriebsratsarbeit/
LOCATION:Hotel Waldblick Pulsnitz\, Königsbrücker Str. 119\, Pulsnitz\, Sachsen\, 01896
CATEGORIES:Betriebsräte,BR Grundlagen,Grundlagenseminar,Pia Dilling,Referent,SBV,Seminarkategorie,Themenfeld,Zielgruppe
END:VEVENT
BEGIN:VEVENT
DTSTART;TZID=Europe/Berlin:20250330T150000
DTEND;TZID=Europe/Berlin:20250404T130000
DTSTAMP:20260421T211844
CREATED:20241001T090033Z
LAST-MODIFIED:20251015T141355Z
UID:10000372-1743346800-1743771600@betriebsraete-bildung.de
SUMMARY:JAV I Einführungsseminar - Mitwirkung der JAV
DESCRIPTION:Als neu gewählte Jugend- und Auszubildendenvertretung ist es wichtig\, grundlegende Aufgaben und Handlungsmöglichkeiten der JAV zu kennen\, um die Interessen junger Beschäftigter und Azubis gut vertreten zu können. Im Seminar erhaltet ihr einerseits einen Überblick über rechtliche Grundlagen und Handwerkszeug\, die ihr als JAV für Euer Amt benötigt\, gleichzeitig bietet sich Euch die Möglichkeit Euch mit JAVs aus Eurer Region auszutauschen und zu vernetzen. Hier lernt ihr\, was ihr als Jugend- und Auszubildendenvertreter:innen machen könnt und wie das am besten geht. \nThemenplan: \n\nRechte\, Pflichten und Handlungsmöglichkeiten der JAV\nRechtliche Grundkenntnisse\nRegelungen der betrieblichen Berufsausbildung und des Jugendarbeitsschutzgesetzes\nPraktische Tipps für die Arbeit als JAV\nOrganisation und Durchführung von JAV Sitzungen sowie Jugend- und Auszubildendenversammlungen\nArbeitsorganisation in der JAV\n\n\n\n\n\n\nDatum & Uhrzeiten\n\n\n\n\nBeginn:\n30.03.2025 – 15:00 Uhr\n\n\nEnde:\n04.04.2025 – 13:00 Uhr\n\n\nAnreise:\n30.03.2025\n\n\nAnmeldung bis:\n27.02.2025\n\n\n\n\n\n\n\n\n\nReferent:innen\n\n\n\n\nFabienne Gehrke Frederik Schäfer\n\n\n\n\n\n\n\n\n\nDetails\n\n\n\n\nThemenfeld | KategorieJAV | Grundlagenseminar\n\n\nZielgruppe:JAV\n\n\nRegion:Berlin\n\n\nFreistellung:§ 37.6 BetrVG\n\n\nKosten:Seminargebühr (MwSt.frei): 1.150 €Hotel/Verpflegung (inkl. MwSt): 850 € Material (inkl. MwSt): 150 €\n\n\nMaterial:Praxis der JAV von A-Z\, Arbeits- und Sozialordnung\, BetrVG  Basiskommentar mit Wahlordnung\n\n\nSeminarnummer:A600252BE013
URL:https://betriebsraete-bildung.de/seminar/jav-i-einfuehrungsseminar-mitwirkung-der-jav-4/
LOCATION:Hotel Rügenblick\, Große Parower Str. 133\, Stralsund\, Sachsen\, 18435
CATEGORIES:Fabienne Gehrke,Frederik Schäfer,Grundlagenseminar,JAV,JAV,Referent,Seminarkategorie,Themenfeld,Zielgruppe
END:VEVENT
BEGIN:VEVENT
DTSTART;TZID=Europe/Berlin:20250331T090000
DTEND;TZID=Europe/Berlin:20250404T160000
DTSTAMP:20260421T211844
CREATED:20240929T161037Z
LAST-MODIFIED:20251015T141356Z
UID:10000328-1743411600-1743782400@betriebsraete-bildung.de
SUMMARY:BR I - Einführung in die Betriebsratsarbeit
DESCRIPTION:Als neugewähltes Betriebsratsmitglied steht man vor zahlreichen neuen Aufgaben\, Rechten und Pflichten. Das Seminar führt in das Betriebsverfassungsrecht ein\, vermittelt wesentliche Grundlagen für einen guten Einstieg in die Betriebsratsarbeit und stellt die zentralen Aufgaben\, Rechte und Pflichten des Betriebsrats vor. Die TeilnehmerInnen erhalten eine praxisnahe Einführung in die Grundzüge einer effektiven und beteiligungsorientierten Arbeitsweise\, zu Methoden der Informationsbeschaffung sowie zu Arbeitsorganisation. Das Seminar ermöglicht eine intensive Auseinandersetzung mit der Rolle als neu gewähltes Betriebsratsmitglied und legt den Grundstein\, die neuen Anforderungen selbstbewusst und kompetent zu meistern. \nThemenplan: \n\nEinführung in das Betriebsverfassungsrecht\nDie Aufgaben\, Rechte und Pflichten von Betriebsratsmitgliedern auf Basis des Betriebsverfassungsgesetzes\nZentrale Unterrichtungs- und Beratungsrechte des Betriebsrats\nSchutz- und Gestaltungsaufgaben\nEinführung in die Mitbestimmungsmöglichkeiten in personellen\, sozialen und wirtschaftlichen Angelegenheiten\nNutzung der Beteiligungsrechte zur Durchsetzung von Interessen der Beschäftigten\nGrundzüge einer effektiven und beteiligungsorientierten Betriebsratsarbeit\n\n\n\n\n\n\nDatum & Uhrzeiten\n\n\n\n\nBeginn:\n31.03.2025 – 09:00 Uhr\n\n\nEnde:\n04.04.2025 – 16:00 Uhr\n\n\nAnreise:\n31.03.2025\n\n\nAnmeldung bis:\n27.02.2025\n\n\n\n\n\n\n\n\n\nReferent:innen\n\n\n\n\nPia Dilling\n\n\n\n\n\n\n\n\n\nDetails\n\n\n\n\nThemenfeld | KategorieBR Grundlagen | Grundlagenseminar\n\n\nZielgruppe:Betriebsräte\, SBV\n\n\nRegion:alle Regionen\n\n\nFreistellung:§ 37.6 BetrVG\, § 179.4 SGB IX\n\n\nKosten:Seminargebühr (MwSt.frei): 1.200 €Hotel/Verpflegung (inkl. MwSt): 1.300 € / (595 € o.Ü.)Material (inkl. MwSt): 100 €\n\n\nMaterial:Arbeits- und Sozialordnung\, BetrVG  Basiskommentar mit Wahlordnung\n\n\nSeminarnummer:A600252L0015
URL:https://betriebsraete-bildung.de/seminar/br-i-einfuehrung-in-die-betriebsratsarbeit-2/
LOCATION:Hotel Michaelis\, Paul-Gruner-Str. 44\, Leipzig\, Sachsen\, 04107
CATEGORIES:Betriebsräte,BR Grundlagen,Grundlagenseminar,Pia Dilling,Referent,SBV,Seminarkategorie,Themenfeld,Zielgruppe
END:VEVENT
END:VCALENDAR