BEGIN:VCALENDAR
VERSION:2.0
PRODID:-//Betriebsräte Bildung Berlin-Brandenburg-Sachsen gGmbH - ECPv6.15.20//NONSGML v1.0//EN
CALSCALE:GREGORIAN
METHOD:PUBLISH
X-WR-CALNAME:Betriebsräte Bildung Berlin-Brandenburg-Sachsen gGmbH
X-ORIGINAL-URL:https://betriebsraete-bildung.de
X-WR-CALDESC:Veranstaltungen für Betriebsräte Bildung Berlin-Brandenburg-Sachsen gGmbH
REFRESH-INTERVAL;VALUE=DURATION:PT1H
X-Robots-Tag:noindex
X-PUBLISHED-TTL:PT1H
BEGIN:VTIMEZONE
TZID:Europe/Berlin
BEGIN:DAYLIGHT
TZOFFSETFROM:+0100
TZOFFSETTO:+0200
TZNAME:CEST
DTSTART:20240331T010000
END:DAYLIGHT
BEGIN:STANDARD
TZOFFSETFROM:+0200
TZOFFSETTO:+0100
TZNAME:CET
DTSTART:20241027T010000
END:STANDARD
BEGIN:DAYLIGHT
TZOFFSETFROM:+0100
TZOFFSETTO:+0200
TZNAME:CEST
DTSTART:20250330T010000
END:DAYLIGHT
BEGIN:STANDARD
TZOFFSETFROM:+0200
TZOFFSETTO:+0100
TZNAME:CET
DTSTART:20251026T010000
END:STANDARD
BEGIN:DAYLIGHT
TZOFFSETFROM:+0100
TZOFFSETTO:+0200
TZNAME:CEST
DTSTART:20260329T010000
END:DAYLIGHT
BEGIN:STANDARD
TZOFFSETFROM:+0200
TZOFFSETTO:+0100
TZNAME:CET
DTSTART:20261025T010000
END:STANDARD
END:VTIMEZONE
BEGIN:VEVENT
DTSTART;TZID=Europe/Berlin:20250616T090000
DTEND;TZID=Europe/Berlin:20250618T160000
DTSTAMP:20260421T162924
CREATED:20241001T090121Z
LAST-MODIFIED:20251015T141354Z
UID:10000402-1750064400-1750262400@betriebsraete-bildung.de
SUMMARY:Grundlagen Entgelt I regional: Entgeltdifferenzierung\, Arbeitsplatzbewertung\, ERA
DESCRIPTION:Die Handhabung und gute Gestaltung bestehender Entgeltsysteme ebenso wie die Einführung neuer Entgeltordnungen und/oder Tarifverträge erfordern umfassendes Wissen und praktisches Know How im Betriebsrat. Das erste Modul der zweiteiligen Seminarfolge stellt die zentralenrechtlichen und tariflichen Bestimmungen zu Fragen der Grundentgeltdifferenzierung und Entgeltgestaltung vor und vermittelt auf dieser Grundlage Kenntnisse und Fertigkeiten zur Vorbereitung und Durchführung einer fachgerechten Eingruppierung. Entlang der betrieblichen Ausgangslage und dem Bedarf der Teilnehmenden werden Übungen für die Anwendung in der Praxis angeboten. \nThemenplan: \n\nBetriebliche Entgeltgestaltung: Rechtliche Grundlagen\, arbeitswissenschaftliche Erkenntnisse und Fragen der betrieblichen Praxis\nGrundentgeltdifferenzierung und Blick auf die betriebliche Ausgangslage\nEingruppierung: Anforderungen\, Methoden\, Instrumente\nFallbeispiele / Übungen\n\n\n\n\n\n\nDatum & Uhrzeiten\n\n\n\n\nBeginn:\n16.06.2025 – 09:00 Uhr\n\n\nEnde:\n18.06.2025 – 16:00 Uhr\n\n\nAnreise:\n16.06.2025\n\n\nAnmeldung bis:\n01.06.2025\n\n\n\n\n\n\n\n\n\nReferent:innen\n\n\n\n\nAlrun Fischer\, Fischer / Bildung und Beratung\n\n\n\n\n\n\n\n\n\nDetails\n\n\n\n\nThemenfeld | KategorieEntgelt | Arbeitszeit | Grundlagenseminar\n\n\nZielgruppe:Betriebsräte\, SBV\n\n\nRegion:für alle Regionen\n\n\nFreistellung:§ 37.6 BetrVG\, § 179.4 SGB IX\n\n\nKosten:Seminargebühr (MwSt.frei): 990 €Hotel/Verpflegung (inkl. MwSt): 575 € / (270 € o.Ü.)Material (inkl. MwSt): 50 €\n\n\nMaterial:Handbuch Entgelt\n\n\nVorraussetzung:Teilnahme am Seminar BR I-Einführung in die Betriebsratsarbeit\n\n\nSeminarnummer:A600252A0035
URL:https://betriebsraete-bildung.de/seminar/grundlagen-entgelt-i-regional-entgeltdifferenzierung-arbeitsplatzbewertung-era/
LOCATION:Conference Center Neustadt\, Stauffenbergallee 25a\, Dresden\, Sachsen\, 01099
CATEGORIES:Alrun Fischer,Betriebsräte,Entgelt & Arbeitszeit,Grundlagenseminar,Referent,SBV,Seminarkategorie,Themenfeld,Zielgruppe
END:VEVENT
BEGIN:VEVENT
DTSTART;TZID=Europe/Berlin:20250616T090000
DTEND;TZID=Europe/Berlin:20250620T160000
DTSTAMP:20260421T162924
CREATED:20240929T161039Z
LAST-MODIFIED:20251015T141356Z
UID:10000327-1750064400-1750435200@betriebsraete-bildung.de
SUMMARY:BR I - Einführung in die Betriebsratsarbeit
DESCRIPTION:Als neugewähltes Betriebsratsmitglied steht man vor zahlreichen neuen Aufgaben\, Rechten und Pflichten. Das Seminar führt in das Betriebsverfassungsrecht ein\, vermittelt wesentliche Grundlagen für einen guten Einstieg in die Betriebsratsarbeit und stellt die zentralen Aufgaben\, Rechte und Pflichten des Betriebsrats vor. Die TeilnehmerInnen erhalten eine praxisnahe Einführung in die Grundzüge einer effektiven und beteiligungsorientierten Arbeitsweise\, zu Methoden der Informationsbeschaffung sowie zu Arbeitsorganisation. Das Seminar ermöglicht eine intensive Auseinandersetzung mit der Rolle als neu gewähltes Betriebsratsmitglied und legt den Grundstein\, die neuen Anforderungen selbstbewusst und kompetent zu meistern. \nThemenplan: \n\nEinführung in das Betriebsverfassungsrecht\nDie Aufgaben\, Rechte und Pflichten von Betriebsratsmitgliedern auf Basis des Betriebsverfassungsgesetzes\nZentrale Unterrichtungs- und Beratungsrechte des Betriebsrats\nSchutz- und Gestaltungsaufgaben\nEinführung in die Mitbestimmungsmöglichkeiten in personellen\, sozialen und wirtschaftlichen Angelegenheiten Nutzung der Beteiligungsrechte zur Durchsetzung von Interessen der Beschäftigten\nGrundzüge einer effektiven und beteiligungsorientierten Betriebsratsarbeit\n\n\n\n\n\n\nDatum & Uhrzeiten\n\n\n\n\nBeginn:\n16.06.2025 – 09:00 Uhr\n\n\nEnde:\n20.06.2025 – 16:00 Uhr\n\n\nAnreise:\n16.06.2025\n\n\nAnmeldung bis:\n01.06.2025\n\n\n\n\n\n\n\n\n\nReferent:innen\n\n\n\n\nFredi Brodersen\n\n\n\n\n\n\n\n\n\nDetails\n\n\n\n\nThemenfeld | KategorieBR Grundlagen | Grundlagenseminar\n\n\nZielgruppe:Betriebsräte\, SBV\n\n\nRegion:für alle Regionen Sachsen\n\n\nFreistellung:§ 37.6 BetrVG\, § 179.4 SGB IX\n\n\nKosten:Seminargebühr (MwSt.frei): 1.200 €Hotel/Verpflegung (inkl. MwSt): 900 € / (475 € o.Ü.)Material (inkl. MwSt): 100 €\n\n\nMaterial:Arbeits- und Sozialordnung\, BetrVG  Basiskommentar mit Wahlordnung\n\n\nSeminarnummer:A600252S0034
URL:https://betriebsraete-bildung.de/seminar/br-i-einfuehrung-in-die-betriebsratsarbeit-3/
LOCATION:Landhotel Rittersgrün\, Karlsbader Str. 23\, Breitenbrunn\, Sachsen\, 08359
CATEGORIES:Betriebsräte,BR Grundlagen,Fredi Brodersen,Grundlagenseminar,Referent,SBV,Seminarkategorie,Themenfeld,Zielgruppe
END:VEVENT
BEGIN:VEVENT
DTSTART;TZID=Europe/Berlin:20250617T090000
DTEND;TZID=Europe/Berlin:20250618T160000
DTSTAMP:20260421T162924
CREATED:20241001T090123Z
LAST-MODIFIED:20251015T141354Z
UID:10000413-1750150800-1750262400@betriebsraete-bildung.de
SUMMARY:Betriebsvereinbarungen rechtssicher gestalten
DESCRIPTION:Die Erarbeitung\, Verhandlung\, der Abschluss und die Anwendung von Betriebsvereinbarungen gehören zur zentralen Aufgabe der Arbeit von Betriebsräten (§ 77\, § 87 und § 88 BetrVG). Das Seminar vermittelt die grundsätzliche\, rechtssichere Herangehensweise an die Entwicklungen von Betriebsvereinbarungen und behandelt die einzelnen Prozessschritte – von der Regelungsabsicht über Formulierung und Verhandlung der Vereinbarung bis zu ihrem Abschluss\, skizziert die jeweiligen Herausforderungen und betrachtet typische Probleme und Fallstricke. Anhand konkreter Fallbeispiele werden zudem bewährte Lösungsansätze und Verhandlungsstrategien aufgezeigt\, wenn Verhandlungen in eine Sackgasse geraten oder Regelungsabsicht der Betriebsparteien und / oder Interessen der Belegschaft auseinanderdriften. \nThemenplan: \n\nMitbestimmungsrechte des Betriebsrats und Aufgabe der Betriebsvereinbarung gemäß BetrVG\nInhalt\, Form und Aufbau einer Betriebsvereinbarung – von der Regelungsabsicht bis zum Abschluss\nGestaltung\, Handhabung und Verbesserung bestehender Betriebsvereinbarungen\nRaus aus der Sackgasse – typische Problemfälle lösen\n\n\n\n\n\n\nDatum & Uhrzeiten\n\n\n\n\nBeginn:\n17.06.2025 – 09:00 Uhr\n\n\nEnde:\n18.06.2025 – 16:00 Uhr\n\n\nAnreise:\n17.06.2025\n\n\nAnmeldung bis:\n01.06.2025\n\n\n\n\n\n\n\n\n\nReferent:innen\n\n\n\n\nJörg Hermann\, Rechtsanwälte Schindele Gerstner & Collegen\n\n\n\n\n\n\n\n\n\nDetails\n\n\n\n\nThemenfeld | KategorieArbeitsrecht | Grundlagenseminar\n\n\nZielgruppe:Betriebsräte\, SBV\n\n\nRegion:für alle Regionen Sachsen\n\n\nFreistellung:§ 37.6 BetrVG\, § 179.4 SGB IX\n\n\nKosten:Seminargebühr (MwSt.frei): 660 €Hotel/Verpflegung (inkl. MwSt): 335 € / (200 € o.Ü.)\n\n\nSeminarnummer:A600252S0036
URL:https://betriebsraete-bildung.de/seminar/betriebsvereinbarungen-rechtssicher-gestalten/
LOCATION:rugs Hotel am Schlosspark Lichtenwalde\, August-Bebel-Str. 1\, Niederwiesa\, Sachsen\, 09577\, Deutschland
CATEGORIES:Arbeits­recht,Betriebsräte,Grundlagenseminar,Jörg Hermann,Referent,SBV,Seminarkategorie,Themenfeld,Zielgruppe
END:VEVENT
BEGIN:VEVENT
DTSTART;TZID=Europe/Berlin:20250623T090000
DTEND;TZID=Europe/Berlin:20250627T160000
DTSTAMP:20260421T162924
CREATED:20241001T184027Z
LAST-MODIFIED:20251015T141347Z
UID:10000432-1750669200-1751040000@betriebsraete-bildung.de
SUMMARY:BR kompakt 2 - Personelle Maßnahmen und Betriebsratshandeln
DESCRIPTION:Personelle Veränderungen im Betrieb erfordern oftmals rasches Handeln von Seiten des Betriebsrats. Im Mittelpunkt des Seminars stehen die Beteiligungs- und Mitbestimmungsrechte sowie Handlungs- und Gestaltungsmöglichkeiten der betrieblichen Interessenvertretung bei personellen Angelegenheiten gemäß §§ 99 – 105 BetrVG. Unter Einbeziehung der aktuellen Rechtsprechung werden die Handlungs- und Beteiligungsmöglichkeiten des Betriebsrats beleuchtet\, gängige Verfahrensweisen erläutert und anhand von Fallbeispielen die Anwendung in der Praxis beraten und geübt. \nThemenplan: \n\nÜberblick über die Beteiligungsrechte der Interessenvertretung in personellen Angelegenheiten\nBeteiligung des Betriebsrats bei Personalentscheidungen nach § 99 BetrVG: Einstellung\, Versetzung\, Eingruppierung\, Umgruppierung\, Leiharbeit\, Befristung\, Werkvertrag\nBeteiligung des Betriebsrats nach §§ 102 ff. BetrVG: Abmahnung\, Kündigung\, Änderungskündigung\nGängige Verfahren bei Personalentscheidungen\, einschließlich vorläufiger Maßnahmen\nAktuelle Entwicklungen in der Rechtsprechung und Gesetzgebung\nFallbeispiele und Anwendung in der Praxis\n\n\n\n\n\n\nDatum & Uhrzeiten\n\n\n\n\nBeginn:\n23.06.2025 – 09:00 Uhr\n\n\nEnde:\n27.06.2025 – 16:00 Uhr\n\n\nAnreise:\n23.06.2025\n\n\nAnmeldung bis:\n08.06.2025\n\n\n\n\n\n\n\n\n\nReferent:innen\n\n\n\n\nPia Dilling\n\n\n\n\n\n\n\n\n\nDetails\n\n\n\n\nThemenfeld | KategorieBR Grundlagen | Grundlagenseminar\n\n\nZielgruppe:Betriebsräte\, SBV\n\n\nRegion:für alle Regionen Sachsen\n\n\nFreistellung:§ 37.6 BetrVG\, § 179.4 SGB IX\n\n\nKosten:Seminargebühr (MwSt.frei): 1.200 €Hotel/Verpflegung (inkl. MwSt): 1.050 € / (560 € o.Ü.)Material (inkl. MwSt): 150 €\n\n\nMaterial:u.a. Arbeits- und Sozialordnung\, BetrVG  Basiskommentar mit Wahlordnung\n\n\nVorraussetzung:Teilnahme am Seminar BR I-Einführung in die Betriebsratsarbeit\n\n\nSeminarnummer:A600252S0038
URL:https://betriebsraete-bildung.de/seminar/br-kompakt-2-personelle-massnahmen-und-betriebsratshandeln-6/
LOCATION:Hotel Kloster Nimbschen\, Nimbschener Landstr. 1\, Grimma\, Sachsen\, 04668\, Deutschland
CATEGORIES:Betriebsräte,BR Grundlagen,Grundlagenseminar,Pia Dilling,Referent,SBV,Seminarkategorie,Themenfeld,Zielgruppe
END:VEVENT
END:VCALENDAR