BEGIN:VCALENDAR
VERSION:2.0
PRODID:-//Betriebsräte Bildung Berlin-Brandenburg-Sachsen gGmbH - ECPv6.15.20//NONSGML v1.0//EN
CALSCALE:GREGORIAN
METHOD:PUBLISH
X-ORIGINAL-URL:https://betriebsraete-bildung.de
X-WR-CALDESC:Veranstaltungen für Betriebsräte Bildung Berlin-Brandenburg-Sachsen gGmbH
REFRESH-INTERVAL;VALUE=DURATION:PT1H
X-Robots-Tag:noindex
X-PUBLISHED-TTL:PT1H
BEGIN:VTIMEZONE
TZID:Europe/Berlin
BEGIN:DAYLIGHT
TZOFFSETFROM:+0100
TZOFFSETTO:+0200
TZNAME:CEST
DTSTART:20240331T010000
END:DAYLIGHT
BEGIN:STANDARD
TZOFFSETFROM:+0200
TZOFFSETTO:+0100
TZNAME:CET
DTSTART:20241027T010000
END:STANDARD
BEGIN:DAYLIGHT
TZOFFSETFROM:+0100
TZOFFSETTO:+0200
TZNAME:CEST
DTSTART:20250330T010000
END:DAYLIGHT
BEGIN:STANDARD
TZOFFSETFROM:+0200
TZOFFSETTO:+0100
TZNAME:CET
DTSTART:20251026T010000
END:STANDARD
BEGIN:DAYLIGHT
TZOFFSETFROM:+0100
TZOFFSETTO:+0200
TZNAME:CEST
DTSTART:20260329T010000
END:DAYLIGHT
BEGIN:STANDARD
TZOFFSETFROM:+0200
TZOFFSETTO:+0100
TZNAME:CET
DTSTART:20261025T010000
END:STANDARD
END:VTIMEZONE
BEGIN:VEVENT
DTSTART;TZID=Europe/Berlin:20250908T090000
DTEND;TZID=Europe/Berlin:20250910T160000
DTSTAMP:20260421T115430
CREATED:20241001T090050Z
LAST-MODIFIED:20251015T141355Z
UID:10000396-1757322000-1757520000@betriebsraete-bildung.de
SUMMARY:Arbeitsrecht II: Bestehendes Arbeitsverhältnis mit Entgelt
DESCRIPTION:Neben dem Arbeitsvertrag bilden Gesetze\, Tarifverträge und Betriebsvereinbarungen den rechtlichen Rahmen des Arbeitsverhältnisses. Das Betriebsverfassungsgesetz überträgt dem Betriebsrat die allgemeine Aufgabe darauf zu achten\, dass alle zugunsten der Arbeitnehmer:innen bestehenden Normen eingehalten werden. Zur Erfüllung dieser Aufgabe müssen Betriebsräte die Arbeitnehmer:innen kompetent beraten und dabei auch die vielfältigen Bestimmungen aus dem kollektiven und dem individuellen Arbeitsrecht berücksichtigen. Im Seminar stehen zentrale Fragestellungen\, die im Laufe eines bestehenden Arbeitsverhältnisses auftreten\, so beispielsweise Regelungen von Arbeitszeit und Urlaub\, im Mittelpunkt. Vermittelt werden die dazu notwendigen arbeitsrechtlichen Grundkenntnisse. \nThemenplan: \n\nArbeitszeit: Rechtsgrundlagen\, insbesondere Arbeitszeitgesetz\, Manteltarifvertrag\, Betriebsvereinbarung\, Arbeitsvertrag\, Mehrarbeit\nUrlaub: Rechtsgrundlagen\, insbesondere Bundesurlaubsgesetz\, Voraussetzungen der Urlaubsgewährung\, Verfallsregelungen\, neue Rechtsprechung des EuGH\, Bildungszeit\nSondervergütungen: Bonus\, Prämie\, Leistungszulage\, Zielvereinbarung\, Gewinnbeteiligung\nEntgelt ohne Arbeitsleistung: Rechtsgrundlagen\, Feiertag\, Krankheit\, Urlaub\, Mutterschutz\, insbesondere Wirtschafts- und Betriebsrisiko Besondere Gruppen:\nMutterschutz\, Elternzeit/Elternteilzeit\, behinderte Menschen\, Jugendarbeitsschutz\nTeilzeitarbeitsverhältnis\nAnspruchsdurchsetzung: Ausschlussfristen\, Geltendmachung\, Leistungsklage\n\n\n\n\n\n\nDatum & Uhrzeiten\n\n\n\n\nBeginn:\n08.09.2025 – 09:00 Uhr\n\n\nEnde:\n10.09.2025 – 16:00 Uhr\n\n\nAnreise:\n08.09.2025\n\n\nAnmeldung bis:\n24.08.2025\n\n\n\n\n\n\n\n\n\nReferent:innen\n\n\n\n\nMicha Heilmann\, dka\n\n\n\n\n\n\n\n\n\nDetails\n\n\n\n\nThemenfeld | KategorieArbeitsrecht | Grundlagenseminar\n\n\nZielgruppe:Betriebsräte\, SBV\n\n\nRegion:für alle Regionen\n\n\nFreistellung:§ 37.6 BetrVG\, § 179.4 SGB IX\n\n\nKosten:Seminargebühr (MwSt.frei): 990 €Hotel/Verpflegung (inkl. MwSt): 710 € / (325 € o.Ü.)\n\n\nMaterial:u.a. Arbeits- und Sozialordnung\n\n\nVorraussetzung:Teilnahme an Arbeitsrecht I\n\n\nSeminarnummer:A600252A0021
URL:https://betriebsraete-bildung.de/seminar/arbeitsrecht-ii-bestehendes-arbeitsverhaeltnis-mit-entgelt/
LOCATION:IG Metall Berlin\, Alte Jakobstraße 149\, Berlin\, Sachsen\, 10969
CATEGORIES:Arbeits­recht,Betriebsräte,Grundlagenseminar,Micha Heilmann,Referent,SBV,Seminarkategorie,Themenfeld,Zielgruppe
END:VEVENT
BEGIN:VEVENT
DTSTART;TZID=Europe/Berlin:20250908T090000
DTEND;TZID=Europe/Berlin:20250910T160000
DTSTAMP:20260421T115430
CREATED:20241001T090154Z
LAST-MODIFIED:20251015T141354Z
UID:10000405-1757322000-1757520000@betriebsraete-bildung.de
SUMMARY:Psychische Belastungen: erkennen und begrenzen
DESCRIPTION:Quer durch alle Branchen und Betriebsgrößen nehmen Arbeitsverdichtung\, ungünstige Arbeitszeiten und Stress zu. Dies bleibt für die Betroffenen nicht ohne Folgen. Die Ermittlung psychischer Belastungen muss ebenso zum Standard werden\, wie etwa die Messung von Lärm oder Gefahrstoffen. Im Seminar werden Grundlagen zu psychischen Belastungen und Beanspruchungen vermittelt. Die Teilnehmenden lernen Methoden und Verfahren zur Identifizierung und Beurteilung von psychischen Belastungen und ihrer praktischen Anwendung im Zusammenhang mit der Gefährdungsbeurteilung kennen. Gleichzeitig werden Handlungsräume aufgezeigt\, wie zum einen Betriebsräte gemeinsam mit den Beschäftigten Belastungen und Risiken verringern können und wie zum anderen agiert werden kann\, wenn es im Betrieb zu Fällen mit arbeitsbedingten Erkrankungen kommt. \nThemenplan: \n\nUrsachen für psychische Belastungen im Betrieb\nIdentifizierungsmethoden und Beurteilungsinstrumente\nAuswirkungen psychischer Belastungen auf die Gesundheit der Kolleg:innen\nMitbestimmung des Betriebsrats bei der betrieblichen Gefährdungsbeurteilung\nHandlungsmöglichkeiten des Betriebsrats\nBest Practice: Gute Beispiele betriebsrätlichen und betrieblichen Handelns\n\n\n\n\n\n\nDatum & Uhrzeiten\n\n\n\n\nBeginn:\n08.09.2025 – 09:00 Uhr\n\n\nEnde:\n10.09.2025 – 16:00 Uhr\n\n\nAnreise:\n08.09.2025\n\n\nAnmeldung bis:\n24.08.2025\n\n\n\n\n\n\n\n\n\nReferent:innen\n\n\n\n\nFranziska Scheier\, IMU-Institut Berlin\n\n\n\n\n\n\n\n\n\nDetails\n\n\n\n\nThemenfeld | KategorieArbeit und Gesundheit | Spezialisierungsseminar\n\n\nZielgruppe:Betriebsräte\, SBV\n\n\nRegion:für alle Regionen\n\n\nFreistellung:§ 37.6 BetrVG\, § 179.4 SGB IX\n\n\nKosten:Seminargebühr (MwSt.frei): 990 €Hotel/Verpflegung (inkl. MwSt): 520 € / (275 € o.Ü.)\n\n\nSeminarnummer:A600252A0048
URL:https://betriebsraete-bildung.de/seminar/psychische-belastungen-erkennen-und-begrenzen/
LOCATION:Hotel Kloster Nimbschen\, Nimbschener Landstr. 1\, Grimma\, Sachsen\, 04668\, Deutschland
CATEGORIES:Arbeit und Gesundheit,Betriebsräte,Franziska Scheier,Referent,SBV,Seminarkategorie,Spezialisierungsseminar,Themenfeld,Zielgruppe
END:VEVENT
BEGIN:VEVENT
DTSTART;TZID=Europe/Berlin:20250908T090000
DTEND;TZID=Europe/Berlin:20250912T160000
DTSTAMP:20260421T115430
CREATED:20240929T161041Z
LAST-MODIFIED:20251015T141356Z
UID:10000326-1757322000-1757692800@betriebsraete-bildung.de
SUMMARY:BR I - Einführung in die Betriebsratsarbeit
DESCRIPTION:Als neugewähltes Betriebsratsmitglied steht man vor zahlreichen neuen Aufgaben\, Rechten und Pflichten. Das Seminar führt in das Betriebsverfassungsrecht ein\, vermittelt wesentliche Grundlagen für einen guten Einstieg in die Betriebsratsarbeit und stellt die zentralen Aufgaben\, Rechte und Pflichten des Betriebsrats vor. Die TeilnehmerInnen erhalten eine praxisnahe Einführung in die Grundzüge einer effektiven und beteiligungsorientierten Arbeitsweise\, zu Methoden der Informationsbeschaffung sowie zu Arbeitsorganisation. Das Seminar ermöglicht eine intensive Auseinandersetzung mit der Rolle als neu gewähltes Betriebsratsmitglied und legt den Grundstein\, die neuen Anforderungen selbstbewusst und kompetent zu meistern. \nThemenplan: \n\nEinführung in das Betriebsverfassungsrecht\nDie Aufgaben\, Rechte und Pflichten von Betriebsratsmitgliedern auf Basis des Betriebsverfassungsgesetzes\nZentrale Unterrichtungs- und Beratungsrechte des Betriebsrats\nSchutz- und Gestaltungsaufgaben\nEinführung in die Mitbestimmungsmöglichkeiten in personellen\, sozialen und wirtschaftlichen Angelegenheiten\nNutzung der Beteiligungsrechte zur Durchsetzung von Interessen der Beschäftigten\nGrundzüge einer effektiven und beteiligungsorientierten Betriebsratsarbeit\n\n\n\n\n\n\nDatum & Uhrzeiten\n\n\n\n\nBeginn:\n08.09.2025 – 09:00 Uhr\n\n\nEnde:\n12.09.2025 – 16:00 Uhr\n\n\nAnreise:\n08.09.2025\n\n\nAnmeldung bis:\n07.08.2025\n\n\n\n\n\n\n\n\n\nReferent:innen\n\n\n\n\nFredi Brodersen\n\n\n\n\n\n\n\n\n\nDetails\n\n\n\n\nThemenfeld | KategorieBR Grundlagen | Grundlagenseminar\n\n\nZielgruppe:Betriebsräte\, SBV\n\n\nRegion:für alle Regionen Sachsen\n\n\nFreistellung:§ 37.6 BetrVG\, § 179.4 SGB IX\n\n\nKosten:Seminargebühr (MwSt.frei): 1.200 €Hotel/Verpflegung (inkl. MwSt): 1.050 € / (560 € o.Ü.)Material (inkl. MwSt): 100 €\n\n\nMaterial:Arbeits- und Sozialordnung\, BetrVG  Basiskommentar mit Wahlordnung\n\n\nSeminarnummer:A600252S0050
URL:https://betriebsraete-bildung.de/seminar/br-i-einfuehrung-in-die-betriebsratsarbeit-4/
LOCATION:Hotel Kloster Nimbschen\, Nimbschener Landstr. 1\, Grimma\, Sachsen\, 04668\, Deutschland
CATEGORIES:Betriebsräte,BR Grundlagen,Fredi Brodersen,Grundlagenseminar,Referent,SBV,Seminarkategorie,Themenfeld,Zielgruppe
END:VEVENT
BEGIN:VEVENT
DTSTART;TZID=Europe/Berlin:20250915T083000
DTEND;TZID=Europe/Berlin:20250915T163000
DTSTAMP:20260421T115430
CREATED:20241001T090207Z
LAST-MODIFIED:20251015T141353Z
UID:10000388-1757925000-1757953800@betriebsraete-bildung.de
SUMMARY:Wahlvorstandsschulung - normales Wahlverfahren
DESCRIPTION:Der Wahlvorstand hat die wichtige Funktion\, die Wahlen vorzubereiten und rechtssicher durchzuführen. Dieses Seminar vermittelt die notwendigen Kenntnisse über die Einleitung und den Ablauf einer Betriebsratswahl in Betrieben mit in der Regel über 100 Wahlberechtigten. Es richtet sich an Arbeitnehmer*innen\, die in den Wahlvorstand berufen wurden und an Betriebsräte\, die die Einleitung einer BR-Wahl nach dem normalen Wahlverfahren vorbereiten. Im Mittelpunkt stehen die gesetzlichen Vorschriften aus dem Betriebsverfassungsgesetz und der Wahlordnung sowie Fragen der praktischen Umsetzung im Betrieb. \nThemenplan: \n\nEinsetzung des Wahlvorstandes\nGrundbegriffe und Grundsätze der Betriebsratswahl\nZusammensetzung des Betriebsrates\nEinblick in das Normale Wahlverfahren\nWahlvorbereitende Maßnahmen\nWahldurchführung\nWahlnachbereitende Aufgaben\nDie konstituierende Sitzung des Betriebsrats\n\n\n\n\n\n\nDatum & Uhrzeiten\n\n\n\n\nBeginn:\n15.09.2025 – 08:30 Uhr\n\n\nEnde:\n15.09.2025 – 16:30 Uhr\n\n\nAnreise:\n15.09.2025\n\n\nAnmeldung bis:\n31.08.2025\n\n\n\n\n\n\n\n\n\nReferent:innen\n\n\n\n\nDaniel Weidmann\, dka\n\n\n\n\n\n\n\n\n\nDetails\n\n\n\n\nThemenfeld | KategorieWahl | Grundlagenseminar\n\n\nZielgruppe:Betriebsräte\, Wahlvorstände\n\n\nRegion:Berlin\n\n\nFreistellung:§ 37.6 BetrVG\, § 20.3 BetrVG\n\n\nKosten:Seminargebühr (MwSt.frei): 330 €\nTagungsort/Verpflegung (inkl- MwSt.): 115 €\n\n\nSeminarnummer:A600252BE053
URL:https://betriebsraete-bildung.de/seminar/wahlvorstandsschulung-normales-wahlverfahren/
LOCATION:Mercure Berlin Tempelhof\, Hermannstr. 214-216\, Berlin\, Sachsen\, 12049
CATEGORIES:Betriebsräte,Daniel Weidmann,Grundlagenseminar,Referent,Seminarkategorie,Themenfeld,Wahl,Wahlvorstände,Zielgruppe
END:VEVENT
BEGIN:VEVENT
DTSTART;TZID=Europe/Berlin:20250916T090000
DTEND;TZID=Europe/Berlin:20250918T160000
DTSTAMP:20260421T115430
CREATED:20250627T121417Z
LAST-MODIFIED:20251015T141346Z
UID:10000438-1758013200-1758211200@betriebsraete-bildung.de
SUMMARY:BR compact 1 - Co-determination and works council action (BR 2)
DESCRIPTION:The seminar introduces the participation and co-determination rights of the works council in social matters and provides guidelines for handling them in practice. Based on an overview of applicable company and labour law\, current case law and practical experience\, the seminar provides advisory instructions for the practical application and implementation in the respective company. \nContent: \n\nStructure of participation rights under works constitution law\nConflict regulations in the Works Constitution Act (BetrVG): Labour court proceedings\,conciliation committee proceedings\nForms of agreement\, regulatory agreement\, works agreement\nEnforceable and voluntary works agreements pursuant to Sections 87\, 88 BetrVG\nParticipation rights and design options in social matters in accordance with Section 87 BetrVG\, e.g. vacation planning (location/ distribution); extension or reduction of working hours; order and conduct in the company\nImplementation of joint resolutions in accordance with § 77 BetrVG Effects of the collective bargaining reservation pursuant to § 77 (3) BetrVG\nCurrent developments in case law and legislation\n\n\n\n\n\n\nDatum & Uhrzeiten\n\n\n\n\nBeginn:\n16.09.2025 – 09:00 Uhr\n\n\nEnde:\n18.09.2025 – 16:00 Uhr\n\n\nAnreise:\n16.09.2025\n\n\nAnmeldung bis:\n16.08.2025\n\n\n\n\n\n\n\n\n\nReferent:innen\n\n\n\n\nDaniel Weidmann\, dka Rechtsanwälte/ Fachanwälte Raphael Kamps\, G.IBS\n\n\n\n\n\n\n\n\n\nDetails\n\n\n\n\nThemenfeld | KategorieBR | Grundlagenseminar\n\n\nZielgruppe:BR\n\n\nRegion:Berlin\n\n\nFreistellung:§ 37.6 BetrVG\n\n\nKosten:Seminargebühr (MwSt.frei): 750 €Tagungsort/Verpflegung (inkl. MwSt): 360 €\n\n\nVorraussetzung: BR I – German labour law and works council constitution act – basics\n\n\nSeminarnummer:A600252BE162
URL:https://betriebsraete-bildung.de/seminar/br-compact-1-co-determination-and-works-council-action-2/
LOCATION:Classik Hotel Alexander Plaza\, Rosenstraße 1\, Berlin\, Sachsen\, 10178\, Deutschland
CATEGORIES:BR,BR Grundlagen,Daniel Weidmann,Grundlagenseminar,Raphael Kamps,Referent,Seminarkategorie,Themenfeld,Zielgruppe
END:VEVENT
BEGIN:VEVENT
DTSTART;TZID=Europe/Berlin:20250922T090000
DTEND;TZID=Europe/Berlin:20250926T160000
DTSTAMP:20260421T115430
CREATED:20241001T184034Z
LAST-MODIFIED:20251015T141347Z
UID:10000431-1758531600-1758902400@betriebsraete-bildung.de
SUMMARY:BR kompakt 2 - Personelle Maßnahmen und Betriebsratshandeln
DESCRIPTION:Personelle Veränderungen im Betrieb erfordern oftmals rasches Handeln von Seiten des Betriebsrats. Im Mittelpunkt des Seminars stehen die Beteiligungs- und Mitbestimmungsrechte sowie Handlungs- und Gestaltungsmöglichkeiten der betrieblichen Interessenvertretung bei personellen Angelegenheiten gemäß §§ 99 – 105 BetrVG. Unter Einbeziehung der aktuellen Rechtsprechung werden die Handlungs- und Beteiligungsmöglichkeiten des Betriebsrats beleuchtet\, gängige Verfahrensweisen erläutert und anhand von Fallbeispielen die Anwendung in der Praxis beraten und geübt. \nThemenplan: \n\nÜberblick über die Beteiligungsrechte der Interessenvertretung in personellen Angelegenheiten\nBeteiligung des Betriebsrats bei Personalentscheidungen nach § 99 BetrVG: Einstellung\, Versetzung\, Eingruppierung\, Umgruppierung\, Leiharbeit\, Befristung\, Werkvertrag\nBeteiligung des Betriebsrats nach §§ 102 ff. BetrVG: Abmahnung\, Kündigung\, Änderungskündigung\nGängige Verfahren bei Personalentscheidungen\, einschließlich vorläufiger Maßnahmen\nAktuelle Entwicklungen in der Rechtsprechung und Gesetzgebung\nFallbeispiele und Anwendung in der Praxis\n\n\n\n\n\n\nDatum & Uhrzeiten\n\n\n\n\nBeginn:\n22.09.2025 – 09:00 Uhr\n\n\nEnde:\n26.09.2025 – 16:00 Uhr\n\n\nAnreise:\n22.09.2025\n\n\nAnmeldung bis:\n07.09.2025\n\n\n\n\n\n\n\n\n\nReferent:innen\n\n\n\n\nFredi Brodersen\n\n\n\n\n\n\n\n\n\nDetails\n\n\n\n\nThemenfeld | KategorieBR Grundlagen | Grundlagenseminar\n\n\nZielgruppe:Betriebsräte\, SBV\n\n\nRegion:für alle Regionen Sachsen\n\n\nFreistellung:§ 37.6 BetrVG\, § 179.4 SGB IX\n\n\nKosten:Seminargebühr (MwSt.frei): 1.200 €Hotel/Verpflegung (inkl. MwSt): 1.190 € / (590 € o.Ü.)Material (inkl. MwSt): 150 €\n\n\nMaterial:u.a. Arbeits- und Sozialordnung\, BetrVG  Basiskommentar mit Wahlordnung\n\n\nVorraussetzung:Teilnahme am Seminar BR I-Einführung in die Betriebsratsarbeit\n\n\nSeminarnummer:A600252S0063
URL:https://betriebsraete-bildung.de/seminar/br-kompakt-2-personelle-massnahmen-und-betriebsratshandeln-7/
LOCATION:Hotel Neue Höhe\, Neuklingenberg 11\, Klingenberg\, Sachsen\, 1774\, Deutschland
CATEGORIES:Betriebsräte,BR Grundlagen,Fredi Brodersen,Grundlagenseminar,Referent,SBV,Seminarkategorie,Themenfeld,Zielgruppe
END:VEVENT
BEGIN:VEVENT
DTSTART;TZID=Europe/Berlin:20250923T083000
DTEND;TZID=Europe/Berlin:20250923T163000
DTSTAMP:20260421T115430
CREATED:20241001T090217Z
LAST-MODIFIED:20251015T141353Z
UID:10000420-1758616200-1758645000@betriebsraete-bildung.de
SUMMARY:Wahlvorstandsschulung - normales Wahlverfahren
DESCRIPTION:Der Wahlvorstand hat die wichtige Funktion\, die Wahlen vorzubereiten und rechtssicher durchzuführen. Dieses Seminar vermittelt die notwendigen Kenntnisse über die Einleitung und den Ablauf einer Betriebsratswahl in Betrieben mit in der Regel über 100 Wahlberechtigten. Es richtet sich an Arbeitnehmer:innen\, die in den Wahlvorstand berufen wurden und an Betriebsräte\, die die Einleitung einer BR-Wahl nach dem normalen Wahlverfahren vorbereiten. Im Mittelpunkt stehen die gesetzlichen Vorschriften aus dem Betriebsverfassungsgesetz und der Wahlordnung sowie Fragen der praktischen Umsetzung im Betrieb. \nThemenplan: \n\nEinsetzung des Wahlvorstandes\nGrundbegriffe und Grundsätze der Betriebsratswahl\nZusammensetzung des Betriebsrates\nEinblick in das Normale Wahlverfahren\nWahlvorbereitende Maßnahmen\nWahldurchführung\nWahlnachbereitende Aufgaben\nDie konstituierende Sitzung des Betriebsrats\n\n\n\n\n\n\nDatum & Uhrzeiten\n\n\n\n\nBeginn:\n23.09.2025 – 08:30 Uhr\n\n\nEnde:\n23.09.2025 – 16:30 Uhr\n\n\nAnreise:\n23.09.2025\n\n\nAnmeldung bis:\n08.09.2025\n\n\n\n\n\n\n\n\n\nReferent:innen\n\n\n\n\nJörg Hermann\, Rechtsanwälte Schindele Gerstner & Collegen Referent IGM Leipzig\n\n\n\n\n\n\n\n\n\nDetails\n\n\n\n\nThemenfeld | KategorieWahl | Grundlagenseminar\n\n\nZielgruppe:Betriebsräte\, Wahlvorstände\n\n\nRegion:Leipzig\n\n\nFreistellung:§ 37.6 BetrVG\, § 20.3 BetrVG\n\n\nKosten:Seminargebühr (MwSt.frei): 330 €\nTagungsort/Verpflegung (inkl. MwSt.): 95 €\n\n\nSeminarnummer:A600252L0058
URL:https://betriebsraete-bildung.de/seminar/wahlvorstandsschulung-normales-wahlverfahren-2/
LOCATION:Hotel Michaelis\, Paul-Gruner-Str. 44\, Leipzig\, Sachsen\, 04107
CATEGORIES:Betriebsräte,Grundlagenseminar,Jörg Hermann,Referent,Referent IGM Leipzig,Seminarkategorie,Themenfeld,Wahl,Wahlvorstände,Zielgruppe
END:VEVENT
BEGIN:VEVENT
DTSTART;TZID=Europe/Berlin:20250923T083000
DTEND;TZID=Europe/Berlin:20250923T163000
DTSTAMP:20260421T115430
CREATED:20241001T090220Z
LAST-MODIFIED:20251015T141353Z
UID:10000391-1758616200-1758645000@betriebsraete-bildung.de
SUMMARY:Wahlvorstandsschulung - normales Wahlverfahren
DESCRIPTION:Der Wahlvorstand hat die wichtige Funktion\, die Wahlen vorzubereiten und rechtssicher durchzuführen. Dieses Seminar vermittelt die notwendigen Kenntnisse über die Einleitung und den Ablauf einer Betriebsratswahl in Betrieben mit in der Regel über 100 Wahlberechtigten. Es richtet sich an Arbeitnehmer*innen\, die in den Wahlvorstand berufen wurden und an Betriebsräte\, die die Einleitung einer BR-Wahl nach dem normalen Wahlverfahren vorbereiten. Im Mittelpunkt stehen die gesetzlichen Vorschriften aus dem Betriebsverfassungsgesetz und der Wahlordnung sowie Fragen der praktischen Umsetzung im Betrieb. \nThemenplan: \n\nEinsetzung des Wahlvorstandes\nGrundbegriffe und Grundsätze der Betriebsratswahl\nZusammensetzung des Betriebsrates\nEinblick in das Normale Wahlverfahren\nWahlvorbereitende Maßnahmen\nWahldurchführung\nWahlnachbereitende Aufgaben\nDie konstituierende Sitzung des Betriebsrats\n\n\n\n\n\n\nDatum & Uhrzeiten\n\n\n\n\nBeginn:\n23.09.2025 – 08:30 Uhr\n\n\nEnde:\n23.09.2025 – 16:30 Uhr\n\n\nAnreise:\n23.09.2025\n\n\nAnmeldung bis:\n09.09.2025\n\n\n\n\n\n\n\n\n\nReferent:innen\n\n\n\n\nAnne Weidner\, dka\n\n\n\n\n\n\n\n\n\nDetails\n\n\n\n\nThemenfeld | KategorieWahl | Grundlagenseminar\n\n\nZielgruppe:Betriebsräte\, Wahlvorstände\n\n\nRegion:Berlin\n\n\nFreistellung:§ 37.6 BetrVG\, § 20.3 BetrVG\n\n\nKosten:Seminargebühr (MwSt.frei): 330 €\nTagungsort/Verpflegung (inkl. MwSt.): 115 €\n\n\nSeminarnummer:A600252BE059
URL:https://betriebsraete-bildung.de/seminar/wahlvorstandsschulung-normales-wahlverfahren-3/
LOCATION:Mercure Berlin Tempelhof\, Hermannstr. 214-216\, Berlin\, Sachsen\, 12049
CATEGORIES:Anne Weidner,Betriebsräte,Grundlagenseminar,Referent,Seminarkategorie,Themenfeld,Wahl,Wahlvorstände,Zielgruppe
END:VEVENT
END:VCALENDAR