BEGIN:VCALENDAR
VERSION:2.0
PRODID:-//Betriebsräte Bildung Berlin-Brandenburg-Sachsen gGmbH - ECPv6.15.20//NONSGML v1.0//EN
CALSCALE:GREGORIAN
METHOD:PUBLISH
X-WR-CALNAME:Betriebsräte Bildung Berlin-Brandenburg-Sachsen gGmbH
X-ORIGINAL-URL:https://betriebsraete-bildung.de
X-WR-CALDESC:Veranstaltungen für Betriebsräte Bildung Berlin-Brandenburg-Sachsen gGmbH
REFRESH-INTERVAL;VALUE=DURATION:PT1H
X-Robots-Tag:noindex
X-PUBLISHED-TTL:PT1H
BEGIN:VTIMEZONE
TZID:Europe/Berlin
BEGIN:DAYLIGHT
TZOFFSETFROM:+0100
TZOFFSETTO:+0200
TZNAME:CEST
DTSTART:20240331T010000
END:DAYLIGHT
BEGIN:STANDARD
TZOFFSETFROM:+0200
TZOFFSETTO:+0100
TZNAME:CET
DTSTART:20241027T010000
END:STANDARD
BEGIN:DAYLIGHT
TZOFFSETFROM:+0100
TZOFFSETTO:+0200
TZNAME:CEST
DTSTART:20250330T010000
END:DAYLIGHT
BEGIN:STANDARD
TZOFFSETFROM:+0200
TZOFFSETTO:+0100
TZNAME:CET
DTSTART:20251026T010000
END:STANDARD
BEGIN:DAYLIGHT
TZOFFSETFROM:+0100
TZOFFSETTO:+0200
TZNAME:CEST
DTSTART:20260329T010000
END:DAYLIGHT
BEGIN:STANDARD
TZOFFSETFROM:+0200
TZOFFSETTO:+0100
TZNAME:CET
DTSTART:20261025T010000
END:STANDARD
END:VTIMEZONE
BEGIN:VEVENT
DTSTART;TZID=Europe/Berlin:20251006T090000
DTEND;TZID=Europe/Berlin:20251006T160000
DTSTAMP:20260419T171945
CREATED:20250716T150405Z
LAST-MODIFIED:20251015T141345Z
UID:10000448-1759741200-1759766400@betriebsraete-bildung.de
SUMMARY:Wahlvorstandsschulung - Vereinfachtes Wahlverfahren
DESCRIPTION:Der Wahlvorstand hat die wichtige Funktion\, die Wahlen vorzubereiten und rechtssicher durchzuführen. \nDieses Seminar vermittelt die notwendigen Kenntnisse über die Einleitung und den Ablauf einer Betriebsratswahl in Betrieben mit bis zu 100 Wahlberechtigten. Es richtet sich an Arbeitnehmer*innen\, die in den Wahlvorstand berufen wurden und an Betriebsräte\, die die Einleitung einer BR-Wahl nach dem vereinfachten Wahlverfahren vorbereiten. \nIm Mittelpunkt stehen die gesetzlichen Vorschriften aus dem Betriebsverfassungsgesetz und der Wahlordnung sowie Fragen der praktischen Umsetzung im Betrieb. \nThemenplan: \n\nEinsetzung des Wahlvorstandes\nGrundbegriffe und Grundsätze der Betriebsratswahl\nZusammensetzung des Betriebsrates\nEinblick in das Vereinfachte Wahlverfahren\nWahlvorbereitende Maßnahmen\nWahldurchführung\nWahlnachbereitende Aufgaben\nDie konstituierende Sitzung des Betriebsrats\n\n\n\n\n\n\nDatum & Uhrzeiten\n\n\n\n\nBeginn:\n06.10.2025 – 09:00 Uhr\n\n\nEnde:\n06.10.2025 – 16:00 Uhr\n\n\n\n\n\n\nAnmeldung bis:\n05.09.2025\n\n\n\n\n\n\n\n\n\nReferent:innen\n\n\n\n\nMax Bachmann\n\n\n\n\n\n\n\n\n\nDetails\n\n\n\n\nThemenfeld | KategorieWahl | Grundlagenseminar\n\n\nZielgruppe:Betriebsräte\, Wahlvorstände\n\n\nRegion:Ostbrandenburg\n\n\nFreistellung:§ 37.6 BetrVG\, § 20.3 BetrVG\n\n\nKosten:Seminargebühr (MwSt.frei): 250 €\nVerpflegung/Tagungort ( inkl. MwSt.): 53 €\n\n\nSeminarnummer:A600252OB165
URL:https://betriebsraete-bildung.de/seminar/wahlvorstandsschulung-vereinfachtes-wahlverfahren-12/
LOCATION:EKO Werkszentrum\, Werkstraße 1\, Eisenhüttenstadt\, Sachsen\, 15890\, Deutschland
CATEGORIES:Betriebsräte,Grundlagenseminar,Max Bachmann,Referent,Seminarkategorie,Themenfeld,Wahl,Wahlvorstände,Zielgruppe
END:VEVENT
BEGIN:VEVENT
DTSTART;TZID=Europe/Berlin:20251007T090000
DTEND;TZID=Europe/Berlin:20251007T160000
DTSTAMP:20260419T171945
CREATED:20250716T150411Z
LAST-MODIFIED:20251015T141345Z
UID:10000449-1759827600-1759852800@betriebsraete-bildung.de
SUMMARY:Wahlvorstandsschulung - Normales Wahlverfahren
DESCRIPTION:Der Wahlvorstand hat die wichtige Funktion\, die Wahlen vorzubereiten und rechtssicher durchzuführen. \nDieses Seminar vermittelt die notwendigen Kenntnisse über die Einleitung und den Ablauf einer Betriebsratswahl in Betrieben mit in der Regel über 100 Wahlberechtigten. Es richtet sich an Arbeitnehmer*innen\, die in den Wahlvorstand berufen wurden und an Betriebsräte\, die die Einleitung einer BR-Wahl nach dem normalen Wahlverfahren vorbereiten. \nIm Mittelpunkt stehen die gesetzlichen Vorschriften aus dem Betriebsverfassungsgesetz und der Wahlordnung sowie Fragen der praktischen Umsetzung im Betrieb. \nThemenplan: \n\nEinsetzung des Wahlvorstandes\nGrundbegriffe und Grundsätze der Betriebsratswahl\nZusammensetzung des Betriebsrates\nEinblick in das Normale Wahlverfahren\nWahlvorbereitende Maßnahmen\nWahldurchführung\nWahlnachbereitende Aufgaben\nDie konstituierende Sitzung des Betriebsrats\n\n\n\n\n\n\nDatum & Uhrzeiten\n\n\n\n\nBeginn:\n07.10.2025 – 09:00 Uhr\n\n\nEnde:\n07.10.2025 – 16:00 Uhr\n\n\n\n\n\n\nAnmeldung bis:\n21.09.2025\n\n\n\n\n\n\n\n\n\nReferent:innen\n\n\n\n\nMax Bachmann\n\n\n\n\n\n\n\n\n\nDetails\n\n\n\n\nThemenfeld | KategorieWahl | Grundlagenseminar\n\n\nZielgruppe:Betriebsräte\, Wahlvorstände\n\n\nRegion:Ostbrandenburg\n\n\nFreistellung:§ 37.6 BetrVG\, § 20.3 BetrVG\n\n\nKosten:Seminargebühr (MwSt.frei): 250 €\nVerpflegung/Tagungort ( inkl. MwSt.): 53 €\n\n\nSeminarnummer:A600252OB166
URL:https://betriebsraete-bildung.de/seminar/wahlvorstandsschulung-normales-wahlverfahren-23/
LOCATION:EKO Werkszentrum\, Werkstraße 1\, Eisenhüttenstadt\, Sachsen\, 15890\, Deutschland
CATEGORIES:Betriebsräte,Grundlagenseminar,Max Bachmann,Referent,Seminarkategorie,Themenfeld,Wahl,Wahlvorstände,Zielgruppe
END:VEVENT
BEGIN:VEVENT
DTSTART;TZID=Europe/Berlin:20251022T083000
DTEND;TZID=Europe/Berlin:20251022T163000
DTSTAMP:20260419T171945
CREATED:20241001T090241Z
LAST-MODIFIED:20251015T141353Z
UID:10000425-1761121800-1761150600@betriebsraete-bildung.de
SUMMARY:Wahlvorstandsschulung - normales Wahlverfahren
DESCRIPTION:Der Wahlvorstand hat die wichtige Funktion\, die Wahlen vorzubereiten und rechtssicher durchzuführen. Dieses Seminar vermittelt die notwendigen Kenntnisse über die Einleitung und den Ablauf einer Betriebsratswahl in Betrieben mit in der Regel über 100 Wahlberechtigten. Es richtet sich an Arbeitnehmer:innen\, die in den Wahlvorstand berufen wurden und an Betriebsräte\, die die Einleitung einer BR-Wahl nach dem normalen Wahlverfahren vorbereiten. Im Mittelpunkt stehen die gesetzlichen Vorschriften aus dem Betriebsverfassungsgesetz und der Wahlordnung sowie Fragen der praktischen Umsetzung im Betrieb. \nThemenplan: \n\nEinsetzung des Wahlvorstandes\nGrundbegriffe und Grundsätze der Betriebsratswahl\nZusammensetzung des Betriebsrates\nEinblick in das Normale Wahlverfahren\nWahlvorbereitende Maßnahmen\nWahldurchführung\nWahlnachbereitende Aufgaben\nDie konstituierende Sitzung des Betriebsrats\n\n\n\n\n\n\nDatum & Uhrzeiten\n\n\n\n\nBeginn:\n22.10.2025 – 08:30 Uhr\n\n\nEnde:\n22.10.2025 – 16:30 Uhr\n\n\nAnreise:\n22.10.2025\n\n\nAnmeldung bis:\n21.09.2025\n\n\n\n\n\n\n\n\n\nReferent:innen\n\n\n\n\nStefan Fischer\, IG Metall Zwickau\n\n\n\n\n\n\n\n\n\nDetails\n\n\n\n\nThemenfeld | KategorieWahl | Grundlagenseminar\n\n\nZielgruppe:Betriebsräte\, Wahlvorstände\n\n\nRegion:Zwickau\n\n\nFreistellung:§ 37.6 BetrVG\, § 20.3 BetrVG\n\n\nKosten:Seminargebühr (MwSt.frei): 330 €\nTagungsort/Verpflegung (inkl. MwSt.): 85 €\n\n\nSeminarnummer:A600252Z0068
URL:https://betriebsraete-bildung.de/seminar/wahlvorstandsschulung-normales-wahlverfahren-4/
LOCATION:Best Western Plaza Hotel Zwickau\, Olzmannstraße 57\, Zwickau\, Sachsen\, 08060\, Deutschland
CATEGORIES:Betriebsräte,Grundlagenseminar,Referent,Seminarkategorie,Stefan Fischer,Themenfeld,Wahl,Wahlvorstände,Zielgruppe
END:VEVENT
BEGIN:VEVENT
DTSTART;TZID=Europe/Berlin:20251026T150000
DTEND;TZID=Europe/Berlin:20251031T130000
DTSTAMP:20260419T171945
CREATED:20241001T090246Z
LAST-MODIFIED:20251015T141352Z
UID:10000341-1761490800-1761915600@betriebsraete-bildung.de
SUMMARY:JAV II  Mitwirkung der Jugend- und Auszubildendenvertretung II
DESCRIPTION:Es ist klar: Jugend- und Auszubildendenvertreterinnen und -vertreter müssen fachlich auf der Höhe der Zeit sein. Eine effektive Vertretung der Interessen hängt jedoch noch von einem anderen Punkt ab: Die Arbeit der JAV sollte gut organisiert sein und wirksam gesteuert werden. \nThemenplan: \n\nDie Qualität der Berufsausbildung – Aufgaben der JAV\, Möglichkeiten der Mitbestimmung und Mitwirkung\nAktueller Stand der Diskussion um die Reform des Berufsbildungsgesetzes\nPlanung und Organisation der JAV-Arbeit\nVorbereitung\, Durchführung\, Nachbereitung von JAV-Sitzungen\nAufgabenverteilung innerhalb des Gremiums\nDurchführung und Auswertung von Sprechstunden\nKommunikation und Gesprächsführung in der JAV-Arbeit an Hand von Praxisbeispielen\nGrundlagen der Kommunikation\nSystemische Gesprächsvorbereitung\nAktives Zuhören\, Steuerungs- und Fragetechniken\n\n\n\n\n\n\nDatum & Uhrzeiten\n\n\n\n\nBeginn:\n26.10.2025 – 15:00 Uhr\n\n\nEnde:\n31.10.2025 – 13:00 Uhr\n\n\nAnreise:\n26.10.2025\n\n\nAnmeldung bis:\n25.09.2025\n\n\n\n\n\n\n\n\n\nReferent:innen\n\n\n\n\nFabienne Gehrke Frederik Schäfer\n\n\n\n\n\n\n\n\n\nDetails\n\n\n\n\nThemenfeld | KategorieJAV | Grundlagenseminar\n\n\nZielgruppe:JAV\n\n\nRegion:Berlin\n\n\nFreistellung:§ 37.6 BetrVG\n\n\nKosten:Seminargebühr (MwSt.frei): 1.150 €Hotel/Verpflegung (inkl. MwSt): 850 €Material (inkl. MwSt): 150 €\n\n\nMaterial:Basiskommentar BBiG\, Basiskommentar JArbSchG\n\n\nVorraussetzung:Teilnahme am JAV I\n\n\nSeminarnummer:A600252BE070
URL:https://betriebsraete-bildung.de/seminar/jav-ii-mitwirkung-der-jugend-und-auszubildendenvertretung-ii/
LOCATION:Hotel Rügenblick\, Große Parower Str. 133\, Stralsund\, Sachsen\, 18435
CATEGORIES:Fabienne Gehrke,Frederik Schäfer,Grundlagenseminar,JAV,JAV,Referent,Seminarkategorie,Themenfeld,Zielgruppe
END:VEVENT
END:VCALENDAR