BEGIN:VCALENDAR
VERSION:2.0
PRODID:-//Betriebsräte Bildung Berlin-Brandenburg-Sachsen gGmbH - ECPv6.15.20//NONSGML v1.0//EN
CALSCALE:GREGORIAN
METHOD:PUBLISH
X-ORIGINAL-URL:https://betriebsraete-bildung.de
X-WR-CALDESC:Veranstaltungen für Betriebsräte Bildung Berlin-Brandenburg-Sachsen gGmbH
REFRESH-INTERVAL;VALUE=DURATION:PT1H
X-Robots-Tag:noindex
X-PUBLISHED-TTL:PT1H
BEGIN:VTIMEZONE
TZID:Europe/Berlin
BEGIN:DAYLIGHT
TZOFFSETFROM:+0100
TZOFFSETTO:+0200
TZNAME:CEST
DTSTART:20250330T010000
END:DAYLIGHT
BEGIN:STANDARD
TZOFFSETFROM:+0200
TZOFFSETTO:+0100
TZNAME:CET
DTSTART:20251026T010000
END:STANDARD
BEGIN:DAYLIGHT
TZOFFSETFROM:+0100
TZOFFSETTO:+0200
TZNAME:CEST
DTSTART:20260329T010000
END:DAYLIGHT
BEGIN:STANDARD
TZOFFSETFROM:+0200
TZOFFSETTO:+0100
TZNAME:CET
DTSTART:20261025T010000
END:STANDARD
BEGIN:DAYLIGHT
TZOFFSETFROM:+0100
TZOFFSETTO:+0200
TZNAME:CEST
DTSTART:20270328T010000
END:DAYLIGHT
BEGIN:STANDARD
TZOFFSETFROM:+0200
TZOFFSETTO:+0100
TZNAME:CET
DTSTART:20271031T010000
END:STANDARD
END:VTIMEZONE
BEGIN:VEVENT
DTSTART;TZID=Europe/Berlin:20261013T090000
DTEND;TZID=Europe/Berlin:20261014T160000
DTSTAMP:20260421T210718
CREATED:20251005T160805Z
LAST-MODIFIED:20251015T141330Z
UID:10000515-1791882000-1791993600@betriebsraete-bildung.de
SUMMARY:Wirksamkeit stärken - Modul 2: Kommunikation\, Rhetorik und Gesprächsführung für Betriebsrat und BRV
DESCRIPTION:Methoden und Kompetenzen für BR und BRV \nMit unserer Seminarreihe „Wirksamkeit stärken“ vermitteln wir in kompakter Form grundlegendes Wissen und Rüstzeug\, um die Rolle im Gremium erfolgreich ausfüllen zu können. Die Seminarreihe besteht aus 4 Modulen à 2 Tagen. Jedes Modul setzt sich jeweils aus kompakten Wissenseinheiten und anwendungsorientierten Trainingsphasen zusammen\, die dabei unterstützen das Erlernte leichter in die eigene Praxis zu integrieren. \nMODUL 2: Kommunikation\, Rhetorik und Gesprächsführung für Betriebsrat und BRV \nWer überzeugen will\, muss überzeugen können. Was dazu gehört und wie das in den unterschiedlich fordernden Situationen professionell gelingt\, erfahren Sie praxisnah im Training Sie trainieren Ihre Kommunikation und den öffentlichen Auftritt in den unterschiedlich fordernden Rollen und Anlässen. So erlangen Sie Sicherheit im Ernstfall\, auch im Umgang mit heiklen Situationen mit dem Management\, der Belegschaft und in der Öffentlichkeit Als ergiebig erweist sich die prozessbegleitende Analyse Ihrer Redebeiträge und der Gesprächssituationen mit der anschließenden Auswertung. Dadurch können Sie Ihr kommunikatives und rhetorisches Geschick effektiv steigern. \nThemenplan: \n\nSelbstpräsentation –  mit anschließender Stärken-Analyse Kommunikation und Persönlichkeit\n\nKernbotschaften und klare Sprache für mehr Verständlichkeit\nKörpersprache bewusst einsetzen und wahrnehmen\nEinsatz von Gestik und Mimik\, Stimmführung\, Redeaufbau und Argumentations-/ Verhandlungsformen\n\n\nIn der Öffentlichkeit vor dem Management und der Belegschaft reden\n\nZiel\, Inhalt und Aufbau Ihrer Rede\nEinführung: mit Rhetorik begeistern\nRedeanlässe und -arten\nAufbau und Gliederung der Rede\nRhetorik: Dreisatz- und Fünfsatzmodelle\nDekorative Rhetorik\nRedetraining\n\n\nStatements – Mit 2 -3 Sätzen rhetorisch überzeugen\n\n\n\n\n\n\nDatum & Uhrzeiten\n\n\n\n\nBeginn:\n13.10.2026 – 09:00 Uhr\n\n\nEnde:\n14.10.2026 – 16:00 Uhr\n\n\nAnreise:\n13.10.2026\n\n\nAnmeldung bis:\n01.09.2026\n\n\n\n\n\n\n\n\n\nReferent:innen\n\n\n\n\nCristina Fischer\, wip-Management\n\n\n\n\n\n\n\n\n\nDetails\n\n\n\n\nThemenfeld | KategorieBR Grundlagen | Grundlagenseminar\n\n\nZielgruppe:Betriebratsvorsitzende\, Betriebsräte\n\n\nRegion:alle Regionen\n\n\nFreistellung:§ 37\,6 BetrVG\n\n\nKosten:Seminargebühr (MwSt.frei): 720 €Hotel/Verpflegung (inkl. MwSt.): 350 € / (225 € o.Ü.)\n\n\nSeminarnummer:A60026420071
URL:https://betriebsraete-bildung.de/seminar/wirksamkeit-staerken-modul-2-kommunikation-rhetorik-und-gespraechsfuehrung-fuer-betriebsrat-und-brv/
LOCATION:Hotel Kloster Nimbschen\, Nimbschener Landstr. 1\, Grimma\, Sachsen\, 04668\, Deutschland
CATEGORIES:Betriebratsvorsitzende,Betriebsräte,BR Grundlagen,Cristina Fischer,Grundlagenseminar,Referent,Seminarkategorie,Themenfeld,Zielgruppe
END:VEVENT
END:VCALENDAR