BEGIN:VCALENDAR
VERSION:2.0
PRODID:-//Betriebsräte Bildung Berlin-Brandenburg-Sachsen gGmbH - ECPv6.15.20//NONSGML v1.0//EN
CALSCALE:GREGORIAN
METHOD:PUBLISH
X-ORIGINAL-URL:https://betriebsraete-bildung.de
X-WR-CALDESC:Veranstaltungen für Betriebsräte Bildung Berlin-Brandenburg-Sachsen gGmbH
REFRESH-INTERVAL;VALUE=DURATION:PT1H
X-Robots-Tag:noindex
X-PUBLISHED-TTL:PT1H
BEGIN:VTIMEZONE
TZID:Europe/Berlin
BEGIN:DAYLIGHT
TZOFFSETFROM:+0100
TZOFFSETTO:+0200
TZNAME:CEST
DTSTART:20250330T010000
END:DAYLIGHT
BEGIN:STANDARD
TZOFFSETFROM:+0200
TZOFFSETTO:+0100
TZNAME:CET
DTSTART:20251026T010000
END:STANDARD
BEGIN:DAYLIGHT
TZOFFSETFROM:+0100
TZOFFSETTO:+0200
TZNAME:CEST
DTSTART:20260329T010000
END:DAYLIGHT
BEGIN:STANDARD
TZOFFSETFROM:+0200
TZOFFSETTO:+0100
TZNAME:CET
DTSTART:20261025T010000
END:STANDARD
BEGIN:DAYLIGHT
TZOFFSETFROM:+0100
TZOFFSETTO:+0200
TZNAME:CEST
DTSTART:20270328T010000
END:DAYLIGHT
BEGIN:STANDARD
TZOFFSETFROM:+0200
TZOFFSETTO:+0100
TZNAME:CET
DTSTART:20271031T010000
END:STANDARD
BEGIN:DAYLIGHT
TZOFFSETFROM:+0100
TZOFFSETTO:+0200
TZNAME:CEST
DTSTART:20280326T010000
END:DAYLIGHT
BEGIN:STANDARD
TZOFFSETFROM:+0200
TZOFFSETTO:+0100
TZNAME:CET
DTSTART:20281029T010000
END:STANDARD
END:VTIMEZONE
BEGIN:VEVENT
DTSTART;TZID=Europe/Berlin:20260908T090000
DTEND;TZID=Europe/Berlin:20260909T160000
DTSTAMP:20260421T150954
CREATED:20251005T160758Z
LAST-MODIFIED:20260225T123807Z
UID:10000516-1788858000-1788969600@betriebsraete-bildung.de
SUMMARY:Wirksamkeit stärken - Modul 1: Gemeinsam stark im Gremium
DESCRIPTION:Methoden und Kompetenzen für BR und BRV \nMit unserer Seminarreihe „Wirksamkeit stärken“ vermitteln wir in kompakter Form grundlegendes Wissen und Rüstzeug\, um die Rolle im Gremium erfolgreich ausfüllen zu können. Die Seminarreihe besteht aus 4 Modulen à 2 Tagen. Jedes Modul setzt sich jeweils aus kompakten Wissenseinheiten und anwendungsorientierten Trainingsphasen zusammen\, die dabei unterstützen das Erlernte leichter in die eigene Praxis zu integrieren. \nModul 1:Gemeinsam stark im Gremium \nEntwicklung und Zusammenarbeit im Team gestalten \nFür eine effektive Zusammenarbeit im Gremium ist ein gemeinsames Verständnis zu Zielen und zur Strategie sowie eine effiziente Aufgabenteilung unabdingbar. Dafür ist es wichtig\, die Zusammenarbeit gut abzustimmen und zu koordinieren\, den Informationstransfer sicherzustellen und alle Gremienmitglieder effektiv einzubinden. Zudem sollte das Potenzial der Gremienmitglieder in Abhängigkeit ihrer Rolle/Aufgabe stets weiterentwickelt und der Wissenstransfer im Gremium systematisch organisiert werden\, um gemeinsam als Gremium konstruktiv arbeiten zu können. \nThemenplan: \n\nLeitlinien für die Zusammenarbeit im Gremium\n\nMenschen bilden ein Team oder ein Gremium\nMind-Set für das Miteinander\nDie Wirksamkeit des Betriebsrates erhöhen\n\n\nLeitplanken für das Gelingen des Miteinanders im Betriebsrat\n\ngemeinsam Ziele und Strategien entwickeln\nOrganisation der Aufgabenteilung\nInformation- und Wissenstransfer organisieren\nArbeitsweisen und Umgang mit Verweigerung\n\n\nBR-Teamdynamik oder Teamdynamit?\n\nGruppendynamik und Teamprozesse steuern\nDelegation und Motivation\nUmgang mit Konkurrenz und Konflikten im Team\nSchwierige Situationen im Gremium meistern\n\n\n\n\n\n\n\n\nDatum & Uhrzeiten\n\n\n\n\nBeginn:\n08.09.2026 – 09:00 Uhr\n\n\nEnde:\n09.09.2026 – 16:00 Uhr\n\n\n\n08.09.2026\n\n\nAnmeldung bis:\n08.08.2026\n\n\n\n\n\n\n\n\n\nReferent:innen\n\n\n\n\nCristina Fischer\, wip-Management\n\n\n\n\n\n\n\n\n\nDetails\n\n\n\n\nThemenfeld | KategorieBR Grundlagen | Grundlagenseminar\n\n\nZielgruppe:Betriebratsvorsitzende\, Betriebsräte\n\n\nRegion:alle Regionen\n\n\nFreistellung:§ 37\,6 BetrVG\n\n\nKosten:Seminargebühr (MwSt.frei): 720 €Hotel/Verpflegung (inkl. MwSt.): 300 € / (160 € o.Ü.)\n\n\nSeminarnummer:A60026370050
URL:https://betriebsraete-bildung.de/seminar/wirksamkeit-staerken-modul-1-gemeinsam-stark-im-gremium/
LOCATION:Forsthaus Grüna Chemnitz\, Rabensteiner Str. 17\, Chemnitz\, Sachsen\, 09224
CATEGORIES:Betriebratsvorsitzende,Betriebsräte,BR Grundlagen,Cristina Fischer,Grundlagenseminar,Referent,Seminarkategorie,Themenfeld,Zielgruppe
END:VEVENT
BEGIN:VEVENT
DTSTART;TZID=Europe/Berlin:20261013T090000
DTEND;TZID=Europe/Berlin:20261014T160000
DTSTAMP:20260421T150954
CREATED:20251005T160805Z
LAST-MODIFIED:20251015T141330Z
UID:10000515-1791882000-1791993600@betriebsraete-bildung.de
SUMMARY:Wirksamkeit stärken - Modul 2: Kommunikation\, Rhetorik und Gesprächsführung für Betriebsrat und BRV
DESCRIPTION:Methoden und Kompetenzen für BR und BRV \nMit unserer Seminarreihe „Wirksamkeit stärken“ vermitteln wir in kompakter Form grundlegendes Wissen und Rüstzeug\, um die Rolle im Gremium erfolgreich ausfüllen zu können. Die Seminarreihe besteht aus 4 Modulen à 2 Tagen. Jedes Modul setzt sich jeweils aus kompakten Wissenseinheiten und anwendungsorientierten Trainingsphasen zusammen\, die dabei unterstützen das Erlernte leichter in die eigene Praxis zu integrieren. \nMODUL 2: Kommunikation\, Rhetorik und Gesprächsführung für Betriebsrat und BRV \nWer überzeugen will\, muss überzeugen können. Was dazu gehört und wie das in den unterschiedlich fordernden Situationen professionell gelingt\, erfahren Sie praxisnah im Training Sie trainieren Ihre Kommunikation und den öffentlichen Auftritt in den unterschiedlich fordernden Rollen und Anlässen. So erlangen Sie Sicherheit im Ernstfall\, auch im Umgang mit heiklen Situationen mit dem Management\, der Belegschaft und in der Öffentlichkeit Als ergiebig erweist sich die prozessbegleitende Analyse Ihrer Redebeiträge und der Gesprächssituationen mit der anschließenden Auswertung. Dadurch können Sie Ihr kommunikatives und rhetorisches Geschick effektiv steigern. \nThemenplan: \n\nSelbstpräsentation –  mit anschließender Stärken-Analyse Kommunikation und Persönlichkeit\n\nKernbotschaften und klare Sprache für mehr Verständlichkeit\nKörpersprache bewusst einsetzen und wahrnehmen\nEinsatz von Gestik und Mimik\, Stimmführung\, Redeaufbau und Argumentations-/ Verhandlungsformen\n\n\nIn der Öffentlichkeit vor dem Management und der Belegschaft reden\n\nZiel\, Inhalt und Aufbau Ihrer Rede\nEinführung: mit Rhetorik begeistern\nRedeanlässe und -arten\nAufbau und Gliederung der Rede\nRhetorik: Dreisatz- und Fünfsatzmodelle\nDekorative Rhetorik\nRedetraining\n\n\nStatements – Mit 2 -3 Sätzen rhetorisch überzeugen\n\n\n\n\n\n\nDatum & Uhrzeiten\n\n\n\n\nBeginn:\n13.10.2026 – 09:00 Uhr\n\n\nEnde:\n14.10.2026 – 16:00 Uhr\n\n\nAnreise:\n13.10.2026\n\n\nAnmeldung bis:\n01.09.2026\n\n\n\n\n\n\n\n\n\nReferent:innen\n\n\n\n\nCristina Fischer\, wip-Management\n\n\n\n\n\n\n\n\n\nDetails\n\n\n\n\nThemenfeld | KategorieBR Grundlagen | Grundlagenseminar\n\n\nZielgruppe:Betriebratsvorsitzende\, Betriebsräte\n\n\nRegion:alle Regionen\n\n\nFreistellung:§ 37\,6 BetrVG\n\n\nKosten:Seminargebühr (MwSt.frei): 720 €Hotel/Verpflegung (inkl. MwSt.): 350 € / (225 € o.Ü.)\n\n\nSeminarnummer:A60026420071
URL:https://betriebsraete-bildung.de/seminar/wirksamkeit-staerken-modul-2-kommunikation-rhetorik-und-gespraechsfuehrung-fuer-betriebsrat-und-brv/
LOCATION:Hotel Kloster Nimbschen\, Nimbschener Landstr. 1\, Grimma\, Sachsen\, 04668\, Deutschland
CATEGORIES:Betriebratsvorsitzende,Betriebsräte,BR Grundlagen,Cristina Fischer,Grundlagenseminar,Referent,Seminarkategorie,Themenfeld,Zielgruppe
END:VEVENT
BEGIN:VEVENT
DTSTART;TZID=Europe/Berlin:20261208T090000
DTEND;TZID=Europe/Berlin:20261209T160000
DTSTAMP:20260421T150954
CREATED:20251005T160808Z
LAST-MODIFIED:20251029T110716Z
UID:10000503-1796720400-1796832000@betriebsraete-bildung.de
SUMMARY:Wirksamkeit stärken - Modul 3: Konfliktmanagement
DESCRIPTION:Methoden und Kompetenzen für BR und BRV \nMit unserer Seminarreihe „Wirksamkeit stärken“ vermitteln wir in kompakter Form grundlegendes Wissen und Rüstzeug\, um die Rolle im Gremium erfolgreich ausfüllen zu können. Die Seminarreihe besteht aus 4 Modulen à 2 Tagen. Jedes Modul setzt sich jeweils aus kompakten Wissenseinheiten und anwendungsorientierten Trainingsphasen zusammen\, die dabei unterstützen das Erlernte leichter in die eigene Praxis zu integrieren. \nModul 3: Konfliktmanagement \nIn vielen betrieblichen Konflikten sind Betriebsräte als Berater:in oder gar Vermittler:in gefragt. Konfliktsituationen mit dem Arbeitgeber zu klären\, gehört für Betriebsräte zum Handwerkszeug des betrieblichen Handelns. Im Seminar können die Teilnehmenden herausfinden\, welche Konfliktarten es gibt und wie sie sich entwickeln. Sie gewinnen einen Blick auf Konfliktursachen und -Dimensionen und lernen\, Konfliktgespräche und vorzubereiten und durchzuführen. \nThemenplan: \n\nKonflikte und ihre Dynamik\n\nChaos\, Konflikt oder Krise als neues Normal im BR-V-Alltag?\nKonflikte in Gruppen und Organisationen erkennen\nKonfliktarten und Konfliktstufen steuern\ngrundlegende Konfliktlösungen\n\n\nKonfliktgespräche führen oder moderieren\n\nWahrnehmungs-\, Beurteilungs- und Reaktionsmuster\ngewaltfreie Kommunikation oder bewusste Provokation?\nDie Rollen und den Auftrag der Beteiligten im Blick behalten\n\n\nGrundlegende Konfliktlösungen\n\nals beteiligte Person\, BR als Moderator\nKonfliktregelung mit kreativen Methoden\, Schlichtung und Zielvereinbarungen\nÜbungen mit eskalierten Konflikten rund um die BRV oder BR-Rolle\n\n\n\n\n\n\n\n\nDatum & Uhrzeiten\n\n\n\n\nBeginn:\n08.12.2026 – 09:00 Uhr\n\n\nEnde:\n09.12.2026 – 16:00 Uhr\n\n\nAnreise:\n08.12.2026\n\n\nAnmeldung bis:\n07.11.2026\n\n\n\n\n\n\n\n\n\nReferent:innen\n\n\n\n\nCristina Fischer\, wip-Management\n\n\n\n\n\n\n\n\n\nDetails\n\n\n\n\nThemenfeld | KategorieBR Grundlagen | Grundlagenseminar\n\n\nZielgruppe:Betriebratsvorsitzende\, Betriebsräte\n\n\nRegion:alle Regionen\n\n\nFreistellung:§ 37\,6 BetrVG\n\n\nKosten:Seminargebühr (MwSt.frei): 720 €Hotel/Verpflegung (inkl. MwSt.): 300 € / (160 € o.Ü.)\n\n\nSeminarnummer:A60026500098
URL:https://betriebsraete-bildung.de/seminar/wirksamkeit-staerken-modul-3-konfliktmanagement/
LOCATION:Forsthaus Grüna Chemnitz\, Rabensteiner Str. 17\, Chemnitz\, Sachsen\, 09224
CATEGORIES:Betriebratsvorsitzende,Betriebsräte,BR Grundlagen,Cristina Fischer,Grundlagenseminar,Referent,Seminarkategorie,Themenfeld,Zielgruppe
END:VEVENT
BEGIN:VEVENT
DTSTART;TZID=Europe/Berlin:20270216T090000
DTEND;TZID=Europe/Berlin:20270217T160000
DTSTAMP:20260421T150954
CREATED:20251005T160811Z
LAST-MODIFIED:20251015T141329Z
UID:10000504-1802768400-1802880000@betriebsraete-bildung.de
SUMMARY:Wirksamkeit stärken - Modul 4: Erfolgreich verhandeln
DESCRIPTION:Methoden und Kompetenzen für BR und BRV \nMit unserer Seminarreihe „Wirksamkeit stärken“ vermitteln wir in kompakter Form grundlegendes Wissen und Rüstzeug\, um die Rolle im Gremium erfolgreich ausfüllen zu können. Die Seminarreihe besteht aus 4 Modulen à 2 Tagen. Jedes Modul setzt sich jeweils aus kompakten Wissenseinheiten und anwendungsorientierten Trainingsphasen zusammen\, die dabei unterstützen das Erlernte leichter in die eigene Praxis zu integrieren. \nMODUL 4: Erfolgreich verhandeln \nAls BRV und BR ist es für Verhandlungen mit dem Arbeitgeber erforderlich auf Augenhöhe zu kommunizieren. \nWelche Verhandlungsstrategien gibt es und wie lassen sich diese zielführend einsetzen? Wie können Verhandlungen im Gremium gut vorbereitet werden\, um sich in den verschiedenen Phasen der Verhandlung sicher zu verhalten und taktisch sinnvoll zu kommunizieren \nThemenplan: \n\nMission\, Ziele und Strategie für BRV und BR\n\nZiele im Gremium abstimmen\nMit Strategie und Taktiken punkten\ndie Rollen im BR-Team optimal auf die Verhandlungspartner abstimmen\n\n\nVerhandlungen vorbereiten\n\ngekonnt vorbereiten im BR-Team\nin allen Verhandlungsphasen steuern\nVerhandlungsstile und Schlimmste-Fälle-Szenarios kennen\n\n\nEinstufig oder mehrstufig verhandeln\n\nMeinungsäußerung oder Manipulation? Gespräche steuern – Konfliktpotenziale entschärfen!\nverbale\, nonverbale und paraverbale Kommunikation\nStolperfallen in Verhandlungen\nErgebnisse mit Mehrwert sichern\n\n\n\n\n\n\n\n\nDatum & Uhrzeiten\n\n\n\n\nBeginn:\n16.02.2027 – 09:00 Uhr\n\n\nEnde:\n17.02.2027 – 16:00 Uhr\n\n\nAnreise:\n16.02.2027\n\n\nAnmeldung bis:\n05.01.2027\n\n\n\n\n\n\n\n\n\nReferent:innen\n\n\n\n\nCristina Fischer\, wip-Management\n\n\n\n\n\n\n\n\n\nDetails\n\n\n\n\nThemenfeld | KategorieBR Grundlagen | Grundlagenseminar\n\n\nZielgruppe:Betriebratsvorsitzende\, Betriebsräte\n\n\nRegion:alle Regionen\n\n\nFreistellung:§ 37\,6 BetrVG\n\n\nKosten:Seminargebühr (MwSt.frei): 720 €Hotel/Verpflegung (inkl. MwSt.): 350 € / (225 € o.Ü.)\n\n\nSeminarnummer:A60027070099
URL:https://betriebsraete-bildung.de/seminar/wirksamkeit-staerken-modul-4-erfolgreich-verhandeln/
LOCATION:Hotel Kloster Nimbschen\, Nimbschener Landstr. 1\, Grimma\, Sachsen\, 04668\, Deutschland
CATEGORIES:Betriebratsvorsitzende,Betriebsräte,BR Grundlagen,Cristina Fischer,Grundlagenseminar,Referent,Seminarkategorie,Themenfeld,Zielgruppe
END:VEVENT
END:VCALENDAR