BEGIN:VCALENDAR
VERSION:2.0
PRODID:-//Betriebsräte Bildung Berlin-Brandenburg-Sachsen gGmbH - ECPv6.15.20//NONSGML v1.0//EN
CALSCALE:GREGORIAN
METHOD:PUBLISH
X-ORIGINAL-URL:https://betriebsraete-bildung.de
X-WR-CALDESC:Veranstaltungen für Betriebsräte Bildung Berlin-Brandenburg-Sachsen gGmbH
REFRESH-INTERVAL;VALUE=DURATION:PT1H
X-Robots-Tag:noindex
X-PUBLISHED-TTL:PT1H
BEGIN:VTIMEZONE
TZID:Europe/Berlin
BEGIN:DAYLIGHT
TZOFFSETFROM:+0100
TZOFFSETTO:+0200
TZNAME:CEST
DTSTART:20230326T010000
END:DAYLIGHT
BEGIN:STANDARD
TZOFFSETFROM:+0200
TZOFFSETTO:+0100
TZNAME:CET
DTSTART:20231029T010000
END:STANDARD
BEGIN:DAYLIGHT
TZOFFSETFROM:+0100
TZOFFSETTO:+0200
TZNAME:CEST
DTSTART:20240331T010000
END:DAYLIGHT
BEGIN:STANDARD
TZOFFSETFROM:+0200
TZOFFSETTO:+0100
TZNAME:CET
DTSTART:20241027T010000
END:STANDARD
BEGIN:DAYLIGHT
TZOFFSETFROM:+0100
TZOFFSETTO:+0200
TZNAME:CEST
DTSTART:20250330T010000
END:DAYLIGHT
BEGIN:STANDARD
TZOFFSETFROM:+0200
TZOFFSETTO:+0100
TZNAME:CET
DTSTART:20251026T010000
END:STANDARD
BEGIN:DAYLIGHT
TZOFFSETFROM:+0100
TZOFFSETTO:+0200
TZNAME:CEST
DTSTART:20260329T010000
END:DAYLIGHT
BEGIN:STANDARD
TZOFFSETFROM:+0200
TZOFFSETTO:+0100
TZNAME:CET
DTSTART:20261025T010000
END:STANDARD
END:VTIMEZONE
BEGIN:VEVENT
DTSTART;TZID=Europe/Berlin:20250616T090000
DTEND;TZID=Europe/Berlin:20250620T160000
DTSTAMP:20260421T121141
CREATED:20240929T161039Z
LAST-MODIFIED:20251015T141356Z
UID:10000327-1750064400-1750435200@betriebsraete-bildung.de
SUMMARY:BR I - Einführung in die Betriebsratsarbeit
DESCRIPTION:Als neugewähltes Betriebsratsmitglied steht man vor zahlreichen neuen Aufgaben\, Rechten und Pflichten. Das Seminar führt in das Betriebsverfassungsrecht ein\, vermittelt wesentliche Grundlagen für einen guten Einstieg in die Betriebsratsarbeit und stellt die zentralen Aufgaben\, Rechte und Pflichten des Betriebsrats vor. Die TeilnehmerInnen erhalten eine praxisnahe Einführung in die Grundzüge einer effektiven und beteiligungsorientierten Arbeitsweise\, zu Methoden der Informationsbeschaffung sowie zu Arbeitsorganisation. Das Seminar ermöglicht eine intensive Auseinandersetzung mit der Rolle als neu gewähltes Betriebsratsmitglied und legt den Grundstein\, die neuen Anforderungen selbstbewusst und kompetent zu meistern. \nThemenplan: \n\nEinführung in das Betriebsverfassungsrecht\nDie Aufgaben\, Rechte und Pflichten von Betriebsratsmitgliedern auf Basis des Betriebsverfassungsgesetzes\nZentrale Unterrichtungs- und Beratungsrechte des Betriebsrats\nSchutz- und Gestaltungsaufgaben\nEinführung in die Mitbestimmungsmöglichkeiten in personellen\, sozialen und wirtschaftlichen Angelegenheiten Nutzung der Beteiligungsrechte zur Durchsetzung von Interessen der Beschäftigten\nGrundzüge einer effektiven und beteiligungsorientierten Betriebsratsarbeit\n\n\n\n\n\n\nDatum & Uhrzeiten\n\n\n\n\nBeginn:\n16.06.2025 – 09:00 Uhr\n\n\nEnde:\n20.06.2025 – 16:00 Uhr\n\n\nAnreise:\n16.06.2025\n\n\nAnmeldung bis:\n01.06.2025\n\n\n\n\n\n\n\n\n\nReferent:innen\n\n\n\n\nFredi Brodersen\n\n\n\n\n\n\n\n\n\nDetails\n\n\n\n\nThemenfeld | KategorieBR Grundlagen | Grundlagenseminar\n\n\nZielgruppe:Betriebsräte\, SBV\n\n\nRegion:für alle Regionen Sachsen\n\n\nFreistellung:§ 37.6 BetrVG\, § 179.4 SGB IX\n\n\nKosten:Seminargebühr (MwSt.frei): 1.200 €Hotel/Verpflegung (inkl. MwSt): 900 € / (475 € o.Ü.)Material (inkl. MwSt): 100 €\n\n\nMaterial:Arbeits- und Sozialordnung\, BetrVG  Basiskommentar mit Wahlordnung\n\n\nSeminarnummer:A600252S0034
URL:https://betriebsraete-bildung.de/seminar/br-i-einfuehrung-in-die-betriebsratsarbeit-3/
LOCATION:Landhotel Rittersgrün\, Karlsbader Str. 23\, Breitenbrunn\, Sachsen\, 08359
CATEGORIES:Betriebsräte,BR Grundlagen,Fredi Brodersen,Grundlagenseminar,Referent,SBV,Seminarkategorie,Themenfeld,Zielgruppe
END:VEVENT
BEGIN:VEVENT
DTSTART;TZID=Europe/Berlin:20241125T090000
DTEND;TZID=Europe/Berlin:20241129T160000
DTSTAMP:20260421T121141
CREATED:20231017T122918Z
LAST-MODIFIED:20251015T141357Z
UID:10000270-1732525200-1732896000@betriebsraete-bildung.de
SUMMARY:BR kompakt 2 - Personelle Maßnahmen und Betriebsratshandeln
DESCRIPTION:Personelle Veränderungen im Betrieb erfordern oftmals rasches Handeln von Seiten des Betriebsrats. Im Mittelpunkt des Seminars stehen die Beteiligungs- und Mitbestimmungsrechte sowie Handlungs- und Gestaltungsmöglichkeiten der betrieblichen Interessenvertretung bei personellen Angelegenheiten gemäß §§ 99 – 105 BetrVG. Unter Einbeziehung der aktuellen Rechtsprechung werden die Handlungs- und Beteiligungsmöglichkeiten des Betriebsrats beleuchtet\, gängige Verfahrensweisen erläutert und anhand von Fallbeispielen die Anwendung in der Praxis beraten und geübt. \nThemenplan: \n\nÜberblick über die Beteiligungsrechte der Interessenvertretung in personellen Angelegenheiten\nBeteiligung des Betriebsrats bei Personalentscheidungen nach § 99 BetrVG: Einstellung\, Versetzung\, Eingruppierung\, Umgruppierung\, Leiharbeit\, Befristung\, Werkvertrag\nBeteiligung des Betriebsrats nach §§ 102 ff. BetrVG: Abmahnung\, Kündigung\, Änderungskündigung\nGängige Verfahren bei Personalentscheidungen\, einschließlich vorläufiger Maßnahmen\nAktuelle Entwicklungen in der Rechtsprechung und Gesetzgebung\nFallbeispiele und Anwendung in der Praxis\n\n\n\n\n\n\nDatum & Uhrzeiten\n\n\n\n\nBeginn:\n25.11.2024 – 09:00 Uhr\n\n\nEnde:\n29.11.2024 – 16:00 Uhr\n\n\nAnreise:\n25.11.2024\n\n\nAnmeldung bis:\n22.10.2024\n\n\n\n\n\n\n\n\n\nReferent:innen\n\n\n\n\nPia Dilling\n\n\n\n\n\n\n\n\n\nDetails\n\n\n\n\nThemenfeld | KategorieBR Grundlagen | Grundlagenseminar\n\n\nZielgruppe:Betriebsräte\, SBV\n\n\nRegion:für alle Regionen\n\n\nFreistellung:§ 179\,4 SGB IX\, § 37\,6 BetrVG\,\n\n\nKosten:Seminargebühr (MwSt.frei): 1.130 €Hotel/Verpflegung (inkl. MwSt): 900 € / (465 € o.Ü.)Material (inkl. MwSt): 160 €\n\n\nMaterial:u.a. Arbeits- und Sozialordnung\, BetrVG – Basiskommentar mit Wahlordnung\n\n\nVorraussetzung:Teilnahme am Seminar BR I-Einführung in die Betriebsratsarbeit\n\n\nSeminarnummer:A600242A0047
URL:https://betriebsraete-bildung.de/seminar/br-kompakt-2-personelle-massnahmen-und-betriebsratshandeln-3/
LOCATION:Landhotel Rittersgrün\, Karlsbader Str. 23\, Breitenbrunn\, Sachsen\, 08359
CATEGORIES:Betriebsräte,BR Grundlagen,Grundlagenseminar,Pia Dilling,Referent,SBV,Seminarkategorie,Themenfeld,Zielgruppe
END:VEVENT
BEGIN:VEVENT
DTSTART;TZID=Europe/Berlin:20240923T090000
DTEND;TZID=Europe/Berlin:20240927T160000
DTSTAMP:20260421T121141
CREATED:20231017T122911Z
LAST-MODIFIED:20251015T141357Z
UID:10000278-1727082000-1727452800@betriebsraete-bildung.de
SUMMARY:BR I - Einführung in die Betriebsratsarbeit
DESCRIPTION:Als neugewähltes Betriebsratsmitglied steht man vor zahlreichen neuen Aufgaben\, Rechten und Pflichten. Das Seminar führt in das Betriebsverfassungsrecht ein\, vermittelt wesentliche Grundlagen für einen guten Einstieg in die Betriebsratsarbeit und stellt die zentralen Aufgaben\, Rechte und Pflichten des Betriebsrats vor. Die TeilnehmerInnen erhalten eine praxisnahe Einführung in die Grundzüge einer effektiven und beteiligungsorientierten Arbeitsweise\, zu Methoden der Informationsbeschaffung sowie zu Arbeitsorganisation. Das Seminar ermöglicht eine intensive Auseinandersetzung mit der Rolle als neu gewähltes Betriebsratsmitglied und legt den Grundstein\, die neuen Anforderungen selbstbewusst und kompetent zu meistern. \nThemenplan: \n\nEinführung in das Betriebsverfassungsrecht\nDie Aufgaben\, Rechte und Pflichten von Betriebsratsmitgliedern auf Basis des Betriebsverfassungsgesetzes\nZentrale Unterrichtungs- und Beratungsrechte des Betriebsrats\nSchutz- und Gestaltungsaufgaben\nEinführung in die Mitbestimmungsmöglichkeiten in personellen\, sozialen und wirtschaftlichen Angelegenheiten\nNutzung der Beteiligungsrechte zur Durchsetzung von Interessen der Beschäftigten\nGrundzüge einer effektiven und beteiligungsorientierten Betriebsratsarbeit\n\n\n\n\n\n\nDatum & Uhrzeiten\n\n\n\n\nBeginn:\n23.09.2024 – 09:00 Uhr\n\n\nEnde:\n27.09.2024 – 16:00 Uhr\n\n\nAnreise:\n23.09.2024\n\n\nAnmeldung bis:\n09.09.2024\n\n\n\n\n\n\n\n\n\nReferent:innen\n\n\n\n\nPia Dilling\n\n\n\n\n\n\n\n\n\nDetails\n\n\n\n\nThemenfeld | KategorieBR Grundlagen | Grundlagenseminar\n\n\nZielgruppe:Betriebsräte\, SBV\n\n\nRegion:für alle Regionen\n\n\nFreistellung:§ 179\,4 SGB IX\, § 37\,6 BetrVG\,\n\n\nKosten:Seminargebühr (MwSt.frei): 1.130 €Verpflegung (inkl. MwSt): 900 € / (465 € o.Ü.)Material (inkl. MwSt): 100 €\n\n\nMaterial:Arbeits- und Sozialordnung\, BetrVG – Basiskommentar mit Wahlordnung\n\n\nSeminarnummer:A600242A0043
URL:https://betriebsraete-bildung.de/seminar/br-i-einfuehrung-in-die-betriebsratsarbeit-11/
LOCATION:Landhotel Rittersgrün\, Karlsbader Str. 23\, Breitenbrunn\, Sachsen\, 08359
CATEGORIES:Betriebsräte,BR Grundlagen,Grundlagenseminar,Pia Dilling,Referent,SBV,Seminarkategorie,Themenfeld,Zielgruppe
END:VEVENT
BEGIN:VEVENT
DTSTART;TZID=Europe/Berlin:20240528T090000
DTEND;TZID=Europe/Berlin:20240529T160000
DTSTAMP:20260421T121141
CREATED:20231017T122817Z
LAST-MODIFIED:20251015T141358Z
UID:10000304-1716886800-1716998400@betriebsraete-bildung.de
SUMMARY:Betriebsvereinbarungen rechtssicher gestalten
DESCRIPTION:Die Erarbeitung\, Verhandlung\, der Abschluss und die Anwendung von Betriebsvereinbarungen gehören zur zentralen Aufgabe der Arbeit von Betriebsräten (§ 77\, § 87 und § 88 BetrVG). Das Seminar vermittelt die grundsätzliche\, rechtssichere Herangehensweise an die Entwicklungen von Betriebsvereinbarungen und behandelt die einzelnen Prozessschritte – von der Regelungsabsicht über Formulierung und Verhandlung der Vereinbarung bis zu ihrem Abschluss\, skizziert die jeweiligen Herausforderungen und betrachtet typische Probleme und Fallstricke. Anhand konkreter Fallbeispiele werden zudem bewährte Lösungsansätze und Verhandlungsstrategien aufgezeigt\, wenn Verhandlungen in eine Sackgasse geraten oder Regelungsabsicht der Betriebsparteien und / oder Interessen der Belegschaft auseinanderdriften. \nThemenplan: \n\nMitbestimmungsrechte des Betriebsrats und Aufgabe der Betriebsvereinbarung gemäß BetrVG\nInhalt\, Form und Aufbau einer Betriebsvereinbarung – von der Regelungsabsicht bis zum Abschluss\nGestaltung\, Handhabung und Verbesserung bestehender Betriebsvereinbarungen\nRaus aus der Sackgasse – typische Problemfälle lösen\n\n\n\n\n\n\nDatum & Uhrzeiten\n\n\n\n\nBeginn:\n28.05.2024 – 09:00 Uhr\n\n\nEnde:\n29.05.2024 – 16:00 Uhr\n\n\nAnreise:\n28.05.2024\n\n\nAnmeldung bis:\n10.05.2024\n\n\n\n\n\n\n\n\n\nReferent:innen\n\n\n\n\nJörg Hermann\, Rechtsanwälte Schindele Gerstner & Collegen\n\n\n\n\n\n\n\n\n\nDetails\n\n\n\n\nThemenfeld | KategorieArbeitsrecht | Grundlagenseminar\n\n\nZielgruppe:Betriebsräte\, SBV\n\n\nRegion:für alle Regionen\n\n\nFreistellung:§ 179\,4 SGB IX\, § 37\,6 BetrVG\,\n\n\nKosten:Seminargebühr (MwSt.frei): 630 €Hotel/Verpflegung (inkl. MwSt): 335 € / (203 € o.Ü.)\n\n\nVorraussetzung:Teilnahme am Seminar BR I-Einführung in die Betriebsratsarbeit\n\n\nSeminarnummer:A600242Z0012
URL:https://betriebsraete-bildung.de/seminar/betriebsvereinbarungen-rechtssicher-gestalten-5/
LOCATION:Landhotel Rittersgrün\, Karlsbader Str. 23\, Breitenbrunn\, Sachsen\, 08359
CATEGORIES:Arbeits­recht,Betriebsräte,Grundlagenseminar,Jörg Hermann,Referent,SBV,Seminarkategorie,Themenfeld,Zielgruppe
END:VEVENT
BEGIN:VEVENT
DTSTART;TZID=Europe/Berlin:20240318T090000
DTEND;TZID=Europe/Berlin:20240322T160000
DTSTAMP:20260421T121141
CREATED:20231017T122803Z
LAST-MODIFIED:20251015T141359Z
UID:10000263-1710752400-1711123200@betriebsraete-bildung.de
SUMMARY:BR I - Einführung in die Betriebsratsarbeit
DESCRIPTION:Als neugewähltes Betriebsratsmitglied steht man vor zahlreichen neuen Aufgaben\, Rechten und Pflichten. Das Seminar führt in das Betriebsverfassungsrecht ein\, vermittelt wesentliche Grundlagen für einen guten Einstieg in die Betriebsratsarbeit und stellt die zentralen Aufgaben\, Rechte und Pflichten des Betriebsrats vor. Die TeilnehmerInnen erhalten eine praxisnahe Einführung in die Grundzüge einer effektiven und beteiligungsorientierten Arbeitsweise\, zu Methoden der Informationsbeschaffung sowie zu Arbeitsorganisation. Das Seminar ermöglicht eine intensive Auseinandersetzung mit der Rolle als neu gewähltes Betriebsratsmitglied und legt den Grundstein\, die neuen Anforderungen selbstbewusst und kompetent zu meistern. \nThemenplan: \n\nEinführung in das Betriebsverfassungsrecht\nDie Aufgaben\, Rechte und Pflichten von Betriebsratsmitgliedern auf Basis des Betriebsverfassungsgesetzes\nZentrale Unterrichtungs- und Beratungsrechte des Betriebsrats\nSchutz- und Gestaltungsaufgaben\nEinführung in die Mitbestimmungsmöglichkeiten in personellen\, sozialen und wirtschaftlichen Angelegenheiten\nNutzung der Beteiligungsrechte zur Durchsetzung von Interessen der Beschäftigten\nGrundzüge einer effektiven und beteiligungsorientierten Betriebsratsarbeit\n\n\n\n\n\n\nDatum & Uhrzeiten\n\n\n\n\nBeginn:\n18.03.2024 – 09:00 Uhr\n\n\nEnde:\n22.03.2024 – 16:00 Uhr\n\n\nAnreise:\n18.03.2024\n\n\nAnmeldung bis:\n13.02.2024\n\n\n\n\n\n\n\n\n\nReferent:innen\n\n\n\n\nPia Dilling\n\n\n\n\n\n\n\n\n\nDetails\n\n\n\n\nThemenfeld | KategorieBR Grundlagen | Grundlagenseminar\n\n\nZielgruppe:Betriebsräte\, SBV\n\n\nRegion:für alle Regionen\n\n\nFreistellung:§ 179\,4 SGB IX\, § 37\,6 BetrVG\,\n\n\nKosten:Seminargebühr (MwSt.frei): 1130 €Hotel/Verpflegung (inkl. MwSt): 900 € / (465 € o.Ü.)Material (inkl. MwSt): 100 €\n\n\nMaterial:Arbeits- und Sozialordnung\, BetrVG – Basiskommentar mit Wahlordnung\n\n\nSeminarnummer:A600242A0004
URL:https://betriebsraete-bildung.de/seminar/br-i-einfuehrung-in-die-betriebsratsarbeit-8/
LOCATION:Landhotel Rittersgrün\, Karlsbader Str. 23\, Breitenbrunn\, Sachsen\, 08359
CATEGORIES:Betriebsräte,BR Grundlagen,Grundlagenseminar,Pia Dilling,Referent,SBV,Seminarkategorie,Themenfeld,Zielgruppe
END:VEVENT
END:VCALENDAR