BEGIN:VCALENDAR
VERSION:2.0
PRODID:-//Betriebsräte Bildung Berlin-Brandenburg-Sachsen gGmbH - ECPv6.15.20//NONSGML v1.0//EN
CALSCALE:GREGORIAN
METHOD:PUBLISH
X-WR-CALNAME:Betriebsräte Bildung Berlin-Brandenburg-Sachsen gGmbH
X-ORIGINAL-URL:https://betriebsraete-bildung.de
X-WR-CALDESC:Veranstaltungen für Betriebsräte Bildung Berlin-Brandenburg-Sachsen gGmbH
REFRESH-INTERVAL;VALUE=DURATION:PT1H
X-Robots-Tag:noindex
X-PUBLISHED-TTL:PT1H
BEGIN:VTIMEZONE
TZID:Europe/Berlin
BEGIN:DAYLIGHT
TZOFFSETFROM:+0100
TZOFFSETTO:+0200
TZNAME:CEST
DTSTART:20250330T010000
END:DAYLIGHT
BEGIN:STANDARD
TZOFFSETFROM:+0200
TZOFFSETTO:+0100
TZNAME:CET
DTSTART:20251026T010000
END:STANDARD
BEGIN:DAYLIGHT
TZOFFSETFROM:+0100
TZOFFSETTO:+0200
TZNAME:CEST
DTSTART:20260329T010000
END:DAYLIGHT
BEGIN:STANDARD
TZOFFSETFROM:+0200
TZOFFSETTO:+0100
TZNAME:CET
DTSTART:20261025T010000
END:STANDARD
BEGIN:DAYLIGHT
TZOFFSETFROM:+0100
TZOFFSETTO:+0200
TZNAME:CEST
DTSTART:20270328T010000
END:DAYLIGHT
BEGIN:STANDARD
TZOFFSETFROM:+0200
TZOFFSETTO:+0100
TZNAME:CET
DTSTART:20271031T010000
END:STANDARD
END:VTIMEZONE
BEGIN:VEVENT
DTSTART;TZID=Europe/Berlin:20260629T090000
DTEND;TZID=Europe/Berlin:20260703T160000
DTSTAMP:20260421T101614
CREATED:20260202T160803Z
LAST-MODIFIED:20260311T084443Z
UID:10000542-1782723600-1783094400@betriebsraete-bildung.de
SUMMARY:BR I - Einführung in die Betriebsratsarbeit
DESCRIPTION:Als neugewähltes Betriebsratsmitglied steht man vor zahlreichen neuen Aufgaben\, Rechten und Pflichten. Das Seminar führt in das Betriebsverfassungsrecht ein\, vermittelt wesentliche Grundlagen für einen guten Einstieg in die Betriebsratsarbeit und stellt die zentralen Aufgaben\, Rechte und Pflichten des Betriebsrats vor. Die TeilnehmerInnen erhalten eine praxisnahe Einführung in die Grundzüge einer effektiven und beteiligungsorientierten Arbeitsweise\, zu Methoden der Informationsbeschaffung sowie zu Arbeitsorganisation. Das Seminar ermöglicht eine intensive Auseinandersetzung mit der Rolle als neu gewähltes Betriebsratsmitglied und legt den Grundstein\, die neuen Anforderungen selbstbewusst und kompetent zu meistern. \nThemenplan: \n\nEinführung in das Betriebsverfassungsrecht\nDie Aufgaben\, Rechte und Pflichten von Betriebsratsmitgliedern auf Basis des Betriebsverfassungsgesetzes\nZentrale Unterrichtungs- und Beratungsrechte des Betriebsrats\nSchutz- und Gestaltungsaufgaben\nEinführung in die Mitbestimmungsmöglichkeiten in personellen\, sozialen und wirtschaftlichen Angelegenheiten\nNutzung der Beteiligungsrechte zur Durchsetzung von Interessen der Beschäftigten\nGrundzüge einer effektiven und beteiligungsorientierten Betriebsratsarbeit\n\n\n\n\n\n\nDatum & Uhrzeiten\n\n\n\n\nBeginn:\n29.06.2026 – 09:00 Uhr\n\n\nEnde:\n03.07.2026 – 16:00 Uhr\n\n\nAnreise:\n29.06.2026 – 08:30 Uhr\n\n\nAnmeldung bis:\n29.05.2026\n\n\n\n\n\n\n\n\n\nReferent\n\n\n\n\nGünther Kusidlo \n\n\n\n\n\n\n\n\n\nDetails\n\n\n\n\nThemenfeld | KategorieBR Grundlagen | Grundlagenseminar\n\n\nZielgruppe:Betriebsräte\, SBV\n\n\nRegion:Ostbrandenburg\n\n\nFreistellung:§ 37\,6 BetrVG\, § 179\,4 SGB IX\n\n\nKosten:Seminargebühr (MwSt.frei): 1.200 €Hotel u. Verpflegung (inkl. MwSt.): 1.190 € / (495 € o.Ü.)Material (inkl. MwSt): 110 €\n\n\nMaterial:Arbeits- und Sozialordnung\, BetrVG – Basiskommentar mit Wahlordnung\n\n\nSeminarnummer:A67526260026
URL:https://betriebsraete-bildung.de/seminar/br-i-einfuehrung-in-die-betriebsratsarbeit-40/
LOCATION:Waldhotel Eiche\, Eicheweg\, Burg (Spreewald)\, Sachsen\, DE-03096\, Deutschland
CATEGORIES:Betriebsräte,BR Grundlagen,Grundlagenseminar,Günther Kusidlo,Referent,SBV,Seminarkategorie,Themenfeld,Zielgruppe
END:VEVENT
BEGIN:VEVENT
DTSTART;TZID=Europe/Berlin:20260706T090000
DTEND;TZID=Europe/Berlin:20260710T160000
DTSTAMP:20260421T101614
CREATED:20260202T160817Z
LAST-MODIFIED:20260202T184035Z
UID:10000543-1783328400-1783699200@betriebsraete-bildung.de
SUMMARY:BR I - Einführung in die Betriebsratsarbeit
DESCRIPTION:Als neugewähltes Betriebsratsmitglied steht man vor zahlreichen neuen Aufgaben\, Rechten und Pflichten. \nDas Seminar führt in das Betriebsverfassungsrecht ein\, vermittelt wesentliche Grundlagen für einen guten Einstieg in die Betriebsratsarbeit und stellt die zentralen Aufgaben\, Rechte und Pflichten des Betriebsrats vor. Die TeilnehmerInnen erhalten eine praxisnahe Einführung in die Grundzüge einer effektiven und beteiligungsorientierten Arbeitsweise\, zu Methoden der Informationsbeschaffung sowie zu Arbeitsorganisation. \nDas Seminar ermöglicht eine intensive Auseinandersetzung mit der Rolle als neu gewähltes Betriebsratsmitglied und legt den Grundstein\, die neuen Anforderungen selbstbewusst und kompetent zu meistern. \nThemenplan: \n\nEinführung in das Betriebsverfassungsrecht\nDie Aufgaben\, Rechte und Pflichten von Betriebsratsmitgliedern auf Basis des Betriebsverfassungsgesetzes\nZentrale Unterrichtungs- und Beratungsrechte des Betriebsrats\nSchutz- und Gestaltungsaufgaben\nEinführung in die Mitbestimmungsmöglichkeiten in personellen\, sozialen und wirtschaftlichen Angelegenheiten\nNutzung der Beteiligungsrechte zur Durchsetzung von Interessen der Beschäftigten\nGrundzüge einer effektiven und beteiligungsorientierten Betriebsratsarbeit\n\n\n\n\n\n\nDatum & Uhrzeiten\n\n\n\n\nBeginn:\n06.07.2026 – 09:00 Uhr\n\n\nEnde:\n10.07.2026 – 16:00 Uhr\n\n\nAnreise:\n06.07.2026- 08:30 Uhr\n\n\nAnmeldung bis:\n05.06.2026\n\n\n\n\n\n\n\n\n\nReferent:innen\n\n\n\n\nGünther Kusidlo Nicole Rothe\n\n\n\n\n\n\n\n\n\nDetails\n\n\n\n\nThemenfeld | KategorieBR Grundlagen | Grundlagenseminar\n\n\nZielgruppe:Betriebsräte\, SBV\n\n\nRegion:Ludwigsfelde\n\n\nFreistellung:§ 37\,6 BetrVG\, § 179\,4 SGB IX\n\n\nKosten:Seminargebühr (MwSt.frei): 1.200 €Hotel/Verpflegung (inkl. MwSt.): 1.150 € / (440 € o.Ü.)Material (inkl. MwSt.): 110 €\n\n\nMaterial:Arbeits- und Sozialordnung\, BetrVG – Basiskommentar mit Wahlordnung\n\n\nSeminarnummer:A60026270027
URL:https://betriebsraete-bildung.de/seminar/br-i-einfuehrung-in-die-betriebsratsarbeit-41/
LOCATION:Waldhotel Eiche\, Eicheweg\, Burg (Spreewald)\, Sachsen\, DE-03096\, Deutschland
CATEGORIES:Betriebsräte,BR Grundlagen,Grundlagenseminar,Günther Kusidlo,Nicole Rothe,Referent,SBV,Seminarkategorie,Themenfeld,Zielgruppe
END:VEVENT
END:VCALENDAR